BEGIN:VCALENDAR
VERSION:2.0
PRODID:-//The Thirsty Ministries - ECPv6.15.20//NONSGML v1.0//EN
CALSCALE:GREGORIAN
METHOD:PUBLISH
X-WR-CALNAME:The Thirsty Ministries
X-ORIGINAL-URL:https://thethirsty.org
X-WR-CALDESC:Events for The Thirsty Ministries
REFRESH-INTERVAL;VALUE=DURATION:PT1H
X-Robots-Tag:noindex
X-PUBLISHED-TTL:PT1H
BEGIN:VTIMEZONE
TZID:America/New_York
BEGIN:DAYLIGHT
TZOFFSETFROM:-0500
TZOFFSETTO:-0400
TZNAME:EDT
DTSTART:20240310T070000
END:DAYLIGHT
BEGIN:STANDARD
TZOFFSETFROM:-0400
TZOFFSETTO:-0500
TZNAME:EST
DTSTART:20241103T060000
END:STANDARD
BEGIN:DAYLIGHT
TZOFFSETFROM:-0500
TZOFFSETTO:-0400
TZNAME:EDT
DTSTART:20250309T070000
END:DAYLIGHT
BEGIN:STANDARD
TZOFFSETFROM:-0400
TZOFFSETTO:-0500
TZNAME:EST
DTSTART:20251102T060000
END:STANDARD
BEGIN:DAYLIGHT
TZOFFSETFROM:-0500
TZOFFSETTO:-0400
TZNAME:EDT
DTSTART:20260308T070000
END:DAYLIGHT
BEGIN:STANDARD
TZOFFSETFROM:-0400
TZOFFSETTO:-0500
TZNAME:EST
DTSTART:20261101T060000
END:STANDARD
END:VTIMEZONE
BEGIN:VEVENT
DTSTART;TZID=America/New_York:20250822T193000
DTEND;TZID=America/New_York:20250822T213000
DTSTAMP:20260425T063659
CREATED:20250531T191834Z
LAST-MODIFIED:20251219T230746Z
UID:10003273-1755891000-1755898200@thethirsty.org
SUMMARY:Friday Meetings
DESCRIPTION:
URL:https://thethirsty.org/event/friday-meetings-new-location/2025-08-22/
LOCATION:Vellore Village Community Centre\, 1 Villa Royale Ave\, Woodbridge\, ON\, L4H 2P3\, Canada
CATEGORIES:Friday Meetings
ATTACH;FMTTYPE=image/png:https://thethirsty.org/wp-content/uploads/2025/05/Friday_meeting_coloure_g.png
ORGANIZER;CN="The Thirsty Ministries":MAILTO:info@thethirsty.org
END:VEVENT
BEGIN:VEVENT
DTSTART;TZID=America/New_York:20250820T193000
DTEND;TZID=America/New_York:20250820T210000
DTSTAMP:20260425T063659
CREATED:20250612T010615Z
LAST-MODIFIED:20260317T222033Z
UID:10004209-1755718200-1755723600@thethirsty.org
SUMMARY:(On Zoom) Weekly Intercession Meeting
DESCRIPTION:
URL:https://thethirsty.org/event/https-thethirsty-us4-list-manage-com-track-clicku782debe48a03c9cf27dd404a2id076ddd8750e2bba4518e4/2025-08-20/
CATEGORIES:Intercession Meetings
ATTACH;FMTTYPE=image/png:https://thethirsty.org/wp-content/uploads/2025/06/Blue-and-White-Modern-Gradient-Weekly-Meeting-Agenda-Instagram-Post.JPG.png
ORGANIZER;CN="The Thirsty Ministries":MAILTO:info@thethirsty.org
END:VEVENT
BEGIN:VEVENT
DTSTART;TZID=America/New_York:20250813T193000
DTEND;TZID=America/New_York:20250813T210000
DTSTAMP:20260425T063659
CREATED:20250612T003621Z
LAST-MODIFIED:20260317T221911Z
UID:10004197-1755113400-1755118800@thethirsty.org
SUMMARY:(In-Person) Weekly Intercession Meeting
DESCRIPTION:
URL:https://thethirsty.org/event/in-person-weekly-intercession-meeting/2025-08-13/
LOCATION:Vellore Village Community Centre\, 1 Villa Royale Ave\, Woodbridge\, ON\, L4H 2P3\, Canada
CATEGORIES:Intercession Meetings
ATTACH;FMTTYPE=image/png:https://thethirsty.org/wp-content/uploads/2025/06/Blue-and-White-Modern-Gradient-Weekly-Meeting-Agenda-Instagram-Post.png
ORGANIZER;CN="The Thirsty Ministries":MAILTO:info@thethirsty.org
END:VEVENT
BEGIN:VEVENT
DTSTART;TZID=America/New_York:20250808T193000
DTEND;TZID=America/New_York:20250808T213000
DTSTAMP:20260425T063659
CREATED:20250531T191834Z
LAST-MODIFIED:20251219T230746Z
UID:10003272-1754681400-1754688600@thethirsty.org
SUMMARY:Friday Meetings
DESCRIPTION:
URL:https://thethirsty.org/event/friday-meetings-new-location/2025-08-08/
LOCATION:Vellore Village Community Centre\, 1 Villa Royale Ave\, Woodbridge\, ON\, L4H 2P3\, Canada
CATEGORIES:Friday Meetings
ATTACH;FMTTYPE=image/png:https://thethirsty.org/wp-content/uploads/2025/05/Friday_meeting_coloure_g.png
ORGANIZER;CN="The Thirsty Ministries":MAILTO:info@thethirsty.org
END:VEVENT
BEGIN:VEVENT
DTSTART;TZID=America/New_York:20250806T193000
DTEND;TZID=America/New_York:20250806T210000
DTSTAMP:20260425T063659
CREATED:20250612T010615Z
LAST-MODIFIED:20260317T222033Z
UID:10004208-1754508600-1754514000@thethirsty.org
SUMMARY:(On Zoom) Weekly Intercession Meeting
DESCRIPTION:
URL:https://thethirsty.org/event/https-thethirsty-us4-list-manage-com-track-clicku782debe48a03c9cf27dd404a2id076ddd8750e2bba4518e4/2025-08-06/
CATEGORIES:Intercession Meetings
ATTACH;FMTTYPE=image/png:https://thethirsty.org/wp-content/uploads/2025/06/Blue-and-White-Modern-Gradient-Weekly-Meeting-Agenda-Instagram-Post.JPG.png
ORGANIZER;CN="The Thirsty Ministries":MAILTO:info@thethirsty.org
END:VEVENT
BEGIN:VEVENT
DTSTART;TZID=America/New_York:20250730T193000
DTEND;TZID=America/New_York:20250730T210000
DTSTAMP:20260425T063659
CREATED:20250612T003621Z
LAST-MODIFIED:20260317T221911Z
UID:10004196-1753903800-1753909200@thethirsty.org
SUMMARY:(In-Person) Weekly Intercession Meeting
DESCRIPTION:
URL:https://thethirsty.org/event/in-person-weekly-intercession-meeting/2025-07-30/
LOCATION:Vellore Village Community Centre\, 1 Villa Royale Ave\, Woodbridge\, ON\, L4H 2P3\, Canada
CATEGORIES:Intercession Meetings
ATTACH;FMTTYPE=image/png:https://thethirsty.org/wp-content/uploads/2025/06/Blue-and-White-Modern-Gradient-Weekly-Meeting-Agenda-Instagram-Post.png
ORGANIZER;CN="The Thirsty Ministries":MAILTO:info@thethirsty.org
END:VEVENT
BEGIN:VEVENT
DTSTART;TZID=America/New_York:20250725T193000
DTEND;TZID=America/New_York:20250725T213000
DTSTAMP:20260425T063659
CREATED:20250531T191834Z
LAST-MODIFIED:20251219T230746Z
UID:10003271-1753471800-1753479000@thethirsty.org
SUMMARY:Friday Meetings
DESCRIPTION:
URL:https://thethirsty.org/event/friday-meetings-new-location/2025-07-25/
LOCATION:Vellore Village Community Centre\, 1 Villa Royale Ave\, Woodbridge\, ON\, L4H 2P3\, Canada
CATEGORIES:Friday Meetings
ATTACH;FMTTYPE=image/png:https://thethirsty.org/wp-content/uploads/2025/05/Friday_meeting_coloure_g.png
ORGANIZER;CN="The Thirsty Ministries":MAILTO:info@thethirsty.org
END:VEVENT
BEGIN:VEVENT
DTSTART;TZID=America/New_York:20250723T193000
DTEND;TZID=America/New_York:20250723T210000
DTSTAMP:20260425T063659
CREATED:20250612T010615Z
LAST-MODIFIED:20260317T222033Z
UID:10004224-1753299000-1753304400@thethirsty.org
SUMMARY:(On Zoom) Weekly Intercession Meeting
DESCRIPTION:
URL:https://thethirsty.org/event/https-thethirsty-us4-list-manage-com-track-clicku782debe48a03c9cf27dd404a2id076ddd8750e2bba4518e4/2025-07-23/
CATEGORIES:Intercession Meetings
ATTACH;FMTTYPE=image/png:https://thethirsty.org/wp-content/uploads/2025/06/Blue-and-White-Modern-Gradient-Weekly-Meeting-Agenda-Instagram-Post.JPG.png
ORGANIZER;CN="The Thirsty Ministries":MAILTO:info@thethirsty.org
END:VEVENT
BEGIN:VEVENT
DTSTART;TZID=America/New_York:20250716T193000
DTEND;TZID=America/New_York:20250716T210000
DTSTAMP:20260425T063659
CREATED:20250612T010615Z
LAST-MODIFIED:20260317T222033Z
UID:10004207-1752694200-1752699600@thethirsty.org
SUMMARY:(On Zoom) Weekly Intercession Meeting
DESCRIPTION:
URL:https://thethirsty.org/event/https-thethirsty-us4-list-manage-com-track-clicku782debe48a03c9cf27dd404a2id076ddd8750e2bba4518e4/2025-07-16/
CATEGORIES:Intercession Meetings
ATTACH;FMTTYPE=image/png:https://thethirsty.org/wp-content/uploads/2025/06/Blue-and-White-Modern-Gradient-Weekly-Meeting-Agenda-Instagram-Post.JPG.png
ORGANIZER;CN="The Thirsty Ministries":MAILTO:info@thethirsty.org
END:VEVENT
BEGIN:VEVENT
DTSTART;TZID=America/New_York:20250711T193000
DTEND;TZID=America/New_York:20250711T213000
DTSTAMP:20260425T063659
CREATED:20250531T191834Z
LAST-MODIFIED:20251219T230746Z
UID:10003270-1752262200-1752269400@thethirsty.org
SUMMARY:Friday Meetings
DESCRIPTION:
URL:https://thethirsty.org/event/friday-meetings-new-location/2025-07-11/
LOCATION:Vellore Village Community Centre\, 1 Villa Royale Ave\, Woodbridge\, ON\, L4H 2P3\, Canada
CATEGORIES:Friday Meetings
ATTACH;FMTTYPE=image/png:https://thethirsty.org/wp-content/uploads/2025/05/Friday_meeting_coloure_g.png
ORGANIZER;CN="The Thirsty Ministries":MAILTO:info@thethirsty.org
END:VEVENT
BEGIN:VEVENT
DTSTART;TZID=America/New_York:20250709T193000
DTEND;TZID=America/New_York:20250709T210000
DTSTAMP:20260425T063659
CREATED:20250612T003621Z
LAST-MODIFIED:20260317T221911Z
UID:10004194-1752089400-1752094800@thethirsty.org
SUMMARY:(In-Person) Weekly Intercession Meeting
DESCRIPTION:
URL:https://thethirsty.org/event/in-person-weekly-intercession-meeting/2025-07-09/
LOCATION:Vellore Village Community Centre\, 1 Villa Royale Ave\, Woodbridge\, ON\, L4H 2P3\, Canada
CATEGORIES:Intercession Meetings
ATTACH;FMTTYPE=image/png:https://thethirsty.org/wp-content/uploads/2025/06/Blue-and-White-Modern-Gradient-Weekly-Meeting-Agenda-Instagram-Post.png
ORGANIZER;CN="The Thirsty Ministries":MAILTO:info@thethirsty.org
END:VEVENT
BEGIN:VEVENT
DTSTART;TZID=America/New_York:20250702T193000
DTEND;TZID=America/New_York:20250702T210000
DTSTAMP:20260425T063659
CREATED:20250612T010615Z
LAST-MODIFIED:20260317T222033Z
UID:10004206-1751484600-1751490000@thethirsty.org
SUMMARY:(On Zoom) Weekly Intercession Meeting
DESCRIPTION:
URL:https://thethirsty.org/event/https-thethirsty-us4-list-manage-com-track-clicku782debe48a03c9cf27dd404a2id076ddd8750e2bba4518e4/2025-07-02/
CATEGORIES:Intercession Meetings
ATTACH;FMTTYPE=image/png:https://thethirsty.org/wp-content/uploads/2025/06/Blue-and-White-Modern-Gradient-Weekly-Meeting-Agenda-Instagram-Post.JPG.png
ORGANIZER;CN="The Thirsty Ministries":MAILTO:info@thethirsty.org
END:VEVENT
BEGIN:VEVENT
DTSTART;TZID=America/New_York:20250627T193000
DTEND;TZID=America/New_York:20250627T213000
DTSTAMP:20260425T063659
CREATED:20250531T191834Z
LAST-MODIFIED:20251219T230746Z
UID:10003269-1751052600-1751059800@thethirsty.org
SUMMARY:Friday Meetings
DESCRIPTION:
URL:https://thethirsty.org/event/friday-meetings-new-location/2025-06-27/
LOCATION:Vellore Village Community Centre\, 1 Villa Royale Ave\, Woodbridge\, ON\, L4H 2P3\, Canada
CATEGORIES:Friday Meetings
ATTACH;FMTTYPE=image/png:https://thethirsty.org/wp-content/uploads/2025/05/Friday_meeting_coloure_g.png
ORGANIZER;CN="The Thirsty Ministries":MAILTO:info@thethirsty.org
END:VEVENT
BEGIN:VEVENT
DTSTART;TZID=America/New_York:20250625T193000
DTEND;TZID=America/New_York:20250625T210000
DTSTAMP:20260425T063659
CREATED:20250612T010615Z
LAST-MODIFIED:20260317T222033Z
UID:10004217-1750879800-1750885200@thethirsty.org
SUMMARY:(On Zoom) Weekly Intercession Meeting
DESCRIPTION:
URL:https://thethirsty.org/event/https-thethirsty-us4-list-manage-com-track-clicku782debe48a03c9cf27dd404a2id076ddd8750e2bba4518e4/2025-06-25/
CATEGORIES:Intercession Meetings
ATTACH;FMTTYPE=image/png:https://thethirsty.org/wp-content/uploads/2025/06/Blue-and-White-Modern-Gradient-Weekly-Meeting-Agenda-Instagram-Post.JPG.png
ORGANIZER;CN="The Thirsty Ministries":MAILTO:info@thethirsty.org
END:VEVENT
BEGIN:VEVENT
DTSTART;TZID=America/New_York:20250618T193000
DTEND;TZID=America/New_York:20250618T210000
DTSTAMP:20260425T063659
CREATED:20250612T003621Z
LAST-MODIFIED:20260317T221911Z
UID:10004049-1750275000-1750280400@thethirsty.org
SUMMARY:(In-Person) Weekly Intercession Meeting
DESCRIPTION:
URL:https://thethirsty.org/event/in-person-weekly-intercession-meeting/2025-06-18/
LOCATION:Vellore Village Community Centre\, 1 Villa Royale Ave\, Woodbridge\, ON\, L4H 2P3\, Canada
CATEGORIES:Intercession Meetings
ATTACH;FMTTYPE=image/png:https://thethirsty.org/wp-content/uploads/2025/06/Blue-and-White-Modern-Gradient-Weekly-Meeting-Agenda-Instagram-Post.png
ORGANIZER;CN="The Thirsty Ministries":MAILTO:info@thethirsty.org
END:VEVENT
BEGIN:VEVENT
DTSTART;TZID=America/New_York:20250613T193000
DTEND;TZID=America/New_York:20250613T213000
DTSTAMP:20260425T063659
CREATED:20250531T191834Z
LAST-MODIFIED:20251219T230746Z
UID:10003268-1749843000-1749850200@thethirsty.org
SUMMARY:Friday Meetings
DESCRIPTION:
URL:https://thethirsty.org/event/friday-meetings-new-location/2025-06-13/
LOCATION:Vellore Village Community Centre\, 1 Villa Royale Ave\, Woodbridge\, ON\, L4H 2P3\, Canada
CATEGORIES:Friday Meetings
ATTACH;FMTTYPE=image/png:https://thethirsty.org/wp-content/uploads/2025/05/Friday_meeting_coloure_g.png
ORGANIZER;CN="The Thirsty Ministries":MAILTO:info@thethirsty.org
END:VEVENT
BEGIN:VEVENT
DTSTART;TZID=America/New_York:20250608T180000
DTEND;TZID=America/New_York:20250608T210000
DTSTAMP:20260425T063659
CREATED:20250511T062145Z
LAST-MODIFIED:20250519T203339Z
UID:10003257-1749405600-1749416400@thethirsty.org
SUMMARY:Pentecost
DESCRIPTION:Open Worship & Intercession
URL:https://thethirsty.org/event/pentecost/
LOCATION:Vellore Village Community Centre\, 1 Villa Royale Ave\, Woodbridge\, ON\, L4H 2P3\, Canada
CATEGORIES:Other Events
ATTACH;FMTTYPE=image/png:https://thethirsty.org/wp-content/uploads/2025/05/pentecost.png
ORGANIZER;CN="The Thirsty Ministries":MAILTO:info@thethirsty.org
END:VEVENT
BEGIN:VEVENT
DTSTART;TZID=America/New_York:20250602T193000
DTEND;TZID=America/New_York:20250602T203000
DTSTAMP:20260425T063659
CREATED:20250531T185547Z
LAST-MODIFIED:20250531T185910Z
UID:10003258-1748892600-1748896200@thethirsty.org
SUMMARY:Prophetic Time
DESCRIPTION:Join us in prophetic time on Facebook and YouTube \n \n 
URL:https://thethirsty.org/event/prophetic-time-june-02-2025/
CATEGORIES:Prophetic Time
ATTACH;FMTTYPE=image/jpeg:https://thethirsty.org/wp-content/uploads/2025/05/prophetic_time_June_02_2025.jpg
ORGANIZER;CN="The Thirsty Ministries":MAILTO:info@thethirsty.org
END:VEVENT
BEGIN:VEVENT
DTSTART;TZID=America/New_York:20250530T193000
DTEND;TZID=America/New_York:20250530T213000
DTSTAMP:20260425T063659
CREATED:20250214T161734Z
LAST-MODIFIED:20250531T194203Z
UID:10002368-1748633400-1748640600@thethirsty.org
SUMMARY:Friday Meetings (New Location)
DESCRIPTION:
URL:https://thethirsty.org/event/friday-meetings-2/2025-05-30/
LOCATION:Vine Church Toronto\, Vine Church Toronto\, 1224 Lawrence Service Rd N\, North York\, ON\, M6A 1E3\, Canada
CATEGORIES:Friday Meetings
ATTACH;FMTTYPE=image/png:https://thethirsty.org/wp-content/uploads/2025/02/Vine_Church_Friday_meeting.png
ORGANIZER;CN="The Thirsty Ministries":MAILTO:info@thethirsty.org
END:VEVENT
BEGIN:VEVENT
DTSTART;TZID=America/New_York:20250516T193000
DTEND;TZID=America/New_York:20250516T213000
DTSTAMP:20260425T063659
CREATED:20250214T161734Z
LAST-MODIFIED:20250531T194203Z
UID:10002367-1747423800-1747431000@thethirsty.org
SUMMARY:Friday Meetings (New Location)
DESCRIPTION:
URL:https://thethirsty.org/event/friday-meetings-2/2025-05-16/
LOCATION:Vine Church Toronto\, Vine Church Toronto\, 1224 Lawrence Service Rd N\, North York\, ON\, M6A 1E3\, Canada
CATEGORIES:Friday Meetings
ATTACH;FMTTYPE=image/png:https://thethirsty.org/wp-content/uploads/2025/02/Vine_Church_Friday_meeting.png
ORGANIZER;CN="The Thirsty Ministries":MAILTO:info@thethirsty.org
END:VEVENT
BEGIN:VEVENT
DTSTART;TZID=America/New_York:20250502T193000
DTEND;TZID=America/New_York:20250502T213000
DTSTAMP:20260425T063659
CREATED:20250214T161734Z
LAST-MODIFIED:20250531T194203Z
UID:10002366-1746214200-1746221400@thethirsty.org
SUMMARY:Friday Meetings (New Location)
DESCRIPTION:
URL:https://thethirsty.org/event/friday-meetings-2/2025-05-02/
LOCATION:Vine Church Toronto\, Vine Church Toronto\, 1224 Lawrence Service Rd N\, North York\, ON\, M6A 1E3\, Canada
CATEGORIES:Friday Meetings
ATTACH;FMTTYPE=image/png:https://thethirsty.org/wp-content/uploads/2025/02/Vine_Church_Friday_meeting.png
ORGANIZER;CN="The Thirsty Ministries":MAILTO:info@thethirsty.org
END:VEVENT
BEGIN:VEVENT
DTSTART;TZID=America/New_York:20250428T000000
DTEND;TZID=America/New_York:20250428T235900
DTSTAMP:20260425T063659
CREATED:20250214T164711Z
LAST-MODIFIED:20250214T165117Z
UID:10003222-1745798400-1745884740@thethirsty.org
SUMMARY:Zimbabwe Ministry Trip 2025
DESCRIPTION:
URL:https://thethirsty.org/event/zimbabwe-ministry-trip-2025/2025-04-28/
CATEGORIES:Ministry Trips
ATTACH;FMTTYPE=image/jpeg:https://thethirsty.org/wp-content/uploads/Aerial_photo_of_Victoria_Falls_Zambia_in_2006.jpg
ORGANIZER;CN="The Thirsty Ministries":MAILTO:info@thethirsty.org
END:VEVENT
BEGIN:VEVENT
DTSTART;TZID=America/New_York:20250427T000000
DTEND;TZID=America/New_York:20250427T235900
DTSTAMP:20260425T063659
CREATED:20250214T164711Z
LAST-MODIFIED:20250214T165117Z
UID:10003221-1745712000-1745798340@thethirsty.org
SUMMARY:Zimbabwe Ministry Trip 2025
DESCRIPTION:
URL:https://thethirsty.org/event/zimbabwe-ministry-trip-2025/2025-04-27/
CATEGORIES:Ministry Trips
ATTACH;FMTTYPE=image/jpeg:https://thethirsty.org/wp-content/uploads/Aerial_photo_of_Victoria_Falls_Zambia_in_2006.jpg
ORGANIZER;CN="The Thirsty Ministries":MAILTO:info@thethirsty.org
END:VEVENT
BEGIN:VEVENT
DTSTART;TZID=America/New_York:20250426T000000
DTEND;TZID=America/New_York:20250426T235900
DTSTAMP:20260425T063659
CREATED:20250214T164711Z
LAST-MODIFIED:20250214T165117Z
UID:10003220-1745625600-1745711940@thethirsty.org
SUMMARY:Zimbabwe Ministry Trip 2025
DESCRIPTION:
URL:https://thethirsty.org/event/zimbabwe-ministry-trip-2025/2025-04-26/
CATEGORIES:Ministry Trips
ATTACH;FMTTYPE=image/jpeg:https://thethirsty.org/wp-content/uploads/Aerial_photo_of_Victoria_Falls_Zambia_in_2006.jpg
ORGANIZER;CN="The Thirsty Ministries":MAILTO:info@thethirsty.org
END:VEVENT
BEGIN:VEVENT
DTSTART;TZID=America/New_York:20250425T000000
DTEND;TZID=America/New_York:20250425T235900
DTSTAMP:20260425T063659
CREATED:20250214T164711Z
LAST-MODIFIED:20250214T165117Z
UID:10003219-1745539200-1745625540@thethirsty.org
SUMMARY:Zimbabwe Ministry Trip 2025
DESCRIPTION:
URL:https://thethirsty.org/event/zimbabwe-ministry-trip-2025/2025-04-25/
CATEGORIES:Ministry Trips
ATTACH;FMTTYPE=image/jpeg:https://thethirsty.org/wp-content/uploads/Aerial_photo_of_Victoria_Falls_Zambia_in_2006.jpg
ORGANIZER;CN="The Thirsty Ministries":MAILTO:info@thethirsty.org
END:VEVENT
BEGIN:VEVENT
DTSTART;TZID=America/New_York:20250424T000000
DTEND;TZID=America/New_York:20250424T235900
DTSTAMP:20260425T063659
CREATED:20250214T164711Z
LAST-MODIFIED:20250214T165117Z
UID:10003218-1745452800-1745539140@thethirsty.org
SUMMARY:Zimbabwe Ministry Trip 2025
DESCRIPTION:
URL:https://thethirsty.org/event/zimbabwe-ministry-trip-2025/2025-04-24/
CATEGORIES:Ministry Trips
ATTACH;FMTTYPE=image/jpeg:https://thethirsty.org/wp-content/uploads/Aerial_photo_of_Victoria_Falls_Zambia_in_2006.jpg
ORGANIZER;CN="The Thirsty Ministries":MAILTO:info@thethirsty.org
END:VEVENT
END:VCALENDAR