BEGIN:VCALENDAR
VERSION:2.0
PRODID:-//The Thirsty Ministries - ECPv6.15.20//NONSGML v1.0//EN
CALSCALE:GREGORIAN
METHOD:PUBLISH
X-ORIGINAL-URL:https://thethirsty.org
X-WR-CALDESC:Events for The Thirsty Ministries
REFRESH-INTERVAL;VALUE=DURATION:PT1H
X-Robots-Tag:noindex
X-PUBLISHED-TTL:PT1H
BEGIN:VTIMEZONE
TZID:America/New_York
BEGIN:DAYLIGHT
TZOFFSETFROM:-0500
TZOFFSETTO:-0400
TZNAME:EDT
DTSTART:20270314T070000
END:DAYLIGHT
BEGIN:STANDARD
TZOFFSETFROM:-0400
TZOFFSETTO:-0500
TZNAME:EST
DTSTART:20271107T060000
END:STANDARD
BEGIN:DAYLIGHT
TZOFFSETFROM:-0500
TZOFFSETTO:-0400
TZNAME:EDT
DTSTART:20280312T070000
END:DAYLIGHT
BEGIN:STANDARD
TZOFFSETFROM:-0400
TZOFFSETTO:-0500
TZNAME:EST
DTSTART:20281105T060000
END:STANDARD
BEGIN:DAYLIGHT
TZOFFSETFROM:-0500
TZOFFSETTO:-0400
TZNAME:EDT
DTSTART:20290311T070000
END:DAYLIGHT
BEGIN:STANDARD
TZOFFSETFROM:-0400
TZOFFSETTO:-0500
TZNAME:EST
DTSTART:20291104T060000
END:STANDARD
BEGIN:DAYLIGHT
TZOFFSETFROM:-0500
TZOFFSETTO:-0400
TZNAME:EDT
DTSTART:20300310T070000
END:DAYLIGHT
BEGIN:STANDARD
TZOFFSETFROM:-0400
TZOFFSETTO:-0500
TZNAME:EST
DTSTART:20301103T060000
END:STANDARD
END:VTIMEZONE
BEGIN:VEVENT
DTSTART;TZID=America/New_York:20280428T193000
DTEND;TZID=America/New_York:20280428T213000
DTSTAMP:20260425T112915
CREATED:20250531T191834Z
LAST-MODIFIED:20251219T230746Z
UID:10003343-1840563000-1840570200@thethirsty.org
SUMMARY:Friday Meetings
DESCRIPTION:
URL:https://thethirsty.org/event/friday-meetings-new-location/2028-04-28/
LOCATION:Vellore Village Community Centre\, 1 Villa Royale Ave\, Woodbridge\, ON\, L4H 2P3\, Canada
CATEGORIES:Friday Meetings
ATTACH;FMTTYPE=image/png:https://thethirsty.org/wp-content/uploads/2025/05/Friday_meeting_coloure_g.png
ORGANIZER;CN="The Thirsty Ministries":MAILTO:info@thethirsty.org
END:VEVENT
BEGIN:VEVENT
DTSTART;TZID=America/New_York:20280512T193000
DTEND;TZID=America/New_York:20280512T213000
DTSTAMP:20260425T112915
CREATED:20250531T191834Z
LAST-MODIFIED:20251219T230746Z
UID:10003344-1841772600-1841779800@thethirsty.org
SUMMARY:Friday Meetings
DESCRIPTION:
URL:https://thethirsty.org/event/friday-meetings-new-location/2028-05-12/
LOCATION:Vellore Village Community Centre\, 1 Villa Royale Ave\, Woodbridge\, ON\, L4H 2P3\, Canada
CATEGORIES:Friday Meetings
ATTACH;FMTTYPE=image/png:https://thethirsty.org/wp-content/uploads/2025/05/Friday_meeting_coloure_g.png
ORGANIZER;CN="The Thirsty Ministries":MAILTO:info@thethirsty.org
END:VEVENT
BEGIN:VEVENT
DTSTART;TZID=America/New_York:20280526T193000
DTEND;TZID=America/New_York:20280526T213000
DTSTAMP:20260425T112915
CREATED:20250531T191834Z
LAST-MODIFIED:20251219T230746Z
UID:10003345-1842982200-1842989400@thethirsty.org
SUMMARY:Friday Meetings
DESCRIPTION:
URL:https://thethirsty.org/event/friday-meetings-new-location/2028-05-26/
LOCATION:Vellore Village Community Centre\, 1 Villa Royale Ave\, Woodbridge\, ON\, L4H 2P3\, Canada
CATEGORIES:Friday Meetings
ATTACH;FMTTYPE=image/png:https://thethirsty.org/wp-content/uploads/2025/05/Friday_meeting_coloure_g.png
ORGANIZER;CN="The Thirsty Ministries":MAILTO:info@thethirsty.org
END:VEVENT
BEGIN:VEVENT
DTSTART;TZID=America/New_York:20280609T193000
DTEND;TZID=America/New_York:20280609T213000
DTSTAMP:20260425T112915
CREATED:20250531T191834Z
LAST-MODIFIED:20251219T230746Z
UID:10003346-1844191800-1844199000@thethirsty.org
SUMMARY:Friday Meetings
DESCRIPTION:
URL:https://thethirsty.org/event/friday-meetings-new-location/2028-06-09/
LOCATION:Vellore Village Community Centre\, 1 Villa Royale Ave\, Woodbridge\, ON\, L4H 2P3\, Canada
CATEGORIES:Friday Meetings
ATTACH;FMTTYPE=image/png:https://thethirsty.org/wp-content/uploads/2025/05/Friday_meeting_coloure_g.png
ORGANIZER;CN="The Thirsty Ministries":MAILTO:info@thethirsty.org
END:VEVENT
BEGIN:VEVENT
DTSTART;TZID=America/New_York:20280623T193000
DTEND;TZID=America/New_York:20280623T213000
DTSTAMP:20260425T112916
CREATED:20250531T191834Z
LAST-MODIFIED:20251219T230746Z
UID:10003347-1845401400-1845408600@thethirsty.org
SUMMARY:Friday Meetings
DESCRIPTION:
URL:https://thethirsty.org/event/friday-meetings-new-location/2028-06-23/
LOCATION:Vellore Village Community Centre\, 1 Villa Royale Ave\, Woodbridge\, ON\, L4H 2P3\, Canada
CATEGORIES:Friday Meetings
ATTACH;FMTTYPE=image/png:https://thethirsty.org/wp-content/uploads/2025/05/Friday_meeting_coloure_g.png
ORGANIZER;CN="The Thirsty Ministries":MAILTO:info@thethirsty.org
END:VEVENT
BEGIN:VEVENT
DTSTART;TZID=America/New_York:20280707T193000
DTEND;TZID=America/New_York:20280707T213000
DTSTAMP:20260425T112916
CREATED:20250531T191834Z
LAST-MODIFIED:20251219T230746Z
UID:10003348-1846611000-1846618200@thethirsty.org
SUMMARY:Friday Meetings
DESCRIPTION:
URL:https://thethirsty.org/event/friday-meetings-new-location/2028-07-07/
LOCATION:Vellore Village Community Centre\, 1 Villa Royale Ave\, Woodbridge\, ON\, L4H 2P3\, Canada
CATEGORIES:Friday Meetings
ATTACH;FMTTYPE=image/png:https://thethirsty.org/wp-content/uploads/2025/05/Friday_meeting_coloure_g.png
ORGANIZER;CN="The Thirsty Ministries":MAILTO:info@thethirsty.org
END:VEVENT
BEGIN:VEVENT
DTSTART;TZID=America/New_York:20280721T193000
DTEND;TZID=America/New_York:20280721T213000
DTSTAMP:20260425T112916
CREATED:20250531T191834Z
LAST-MODIFIED:20251219T230746Z
UID:10003349-1847820600-1847827800@thethirsty.org
SUMMARY:Friday Meetings
DESCRIPTION:
URL:https://thethirsty.org/event/friday-meetings-new-location/2028-07-21/
LOCATION:Vellore Village Community Centre\, 1 Villa Royale Ave\, Woodbridge\, ON\, L4H 2P3\, Canada
CATEGORIES:Friday Meetings
ATTACH;FMTTYPE=image/png:https://thethirsty.org/wp-content/uploads/2025/05/Friday_meeting_coloure_g.png
ORGANIZER;CN="The Thirsty Ministries":MAILTO:info@thethirsty.org
END:VEVENT
BEGIN:VEVENT
DTSTART;TZID=America/New_York:20280804T193000
DTEND;TZID=America/New_York:20280804T213000
DTSTAMP:20260425T112916
CREATED:20250531T191834Z
LAST-MODIFIED:20251219T230746Z
UID:10003350-1849030200-1849037400@thethirsty.org
SUMMARY:Friday Meetings
DESCRIPTION:
URL:https://thethirsty.org/event/friday-meetings-new-location/2028-08-04/
LOCATION:Vellore Village Community Centre\, 1 Villa Royale Ave\, Woodbridge\, ON\, L4H 2P3\, Canada
CATEGORIES:Friday Meetings
ATTACH;FMTTYPE=image/png:https://thethirsty.org/wp-content/uploads/2025/05/Friday_meeting_coloure_g.png
ORGANIZER;CN="The Thirsty Ministries":MAILTO:info@thethirsty.org
END:VEVENT
BEGIN:VEVENT
DTSTART;TZID=America/New_York:20280818T193000
DTEND;TZID=America/New_York:20280818T213000
DTSTAMP:20260425T112916
CREATED:20250531T191834Z
LAST-MODIFIED:20251219T230746Z
UID:10003351-1850239800-1850247000@thethirsty.org
SUMMARY:Friday Meetings
DESCRIPTION:
URL:https://thethirsty.org/event/friday-meetings-new-location/2028-08-18/
LOCATION:Vellore Village Community Centre\, 1 Villa Royale Ave\, Woodbridge\, ON\, L4H 2P3\, Canada
CATEGORIES:Friday Meetings
ATTACH;FMTTYPE=image/png:https://thethirsty.org/wp-content/uploads/2025/05/Friday_meeting_coloure_g.png
ORGANIZER;CN="The Thirsty Ministries":MAILTO:info@thethirsty.org
END:VEVENT
BEGIN:VEVENT
DTSTART;TZID=America/New_York:20280901T193000
DTEND;TZID=America/New_York:20280901T213000
DTSTAMP:20260425T112916
CREATED:20250531T191834Z
LAST-MODIFIED:20251219T230746Z
UID:10003352-1851449400-1851456600@thethirsty.org
SUMMARY:Friday Meetings
DESCRIPTION:
URL:https://thethirsty.org/event/friday-meetings-new-location/2028-09-01/
LOCATION:Vellore Village Community Centre\, 1 Villa Royale Ave\, Woodbridge\, ON\, L4H 2P3\, Canada
CATEGORIES:Friday Meetings
ATTACH;FMTTYPE=image/png:https://thethirsty.org/wp-content/uploads/2025/05/Friday_meeting_coloure_g.png
ORGANIZER;CN="The Thirsty Ministries":MAILTO:info@thethirsty.org
END:VEVENT
BEGIN:VEVENT
DTSTART;TZID=America/New_York:20280915T193000
DTEND;TZID=America/New_York:20280915T213000
DTSTAMP:20260425T112916
CREATED:20250531T191834Z
LAST-MODIFIED:20251219T230746Z
UID:10003353-1852659000-1852666200@thethirsty.org
SUMMARY:Friday Meetings
DESCRIPTION:
URL:https://thethirsty.org/event/friday-meetings-new-location/2028-09-15/
LOCATION:Vellore Village Community Centre\, 1 Villa Royale Ave\, Woodbridge\, ON\, L4H 2P3\, Canada
CATEGORIES:Friday Meetings
ATTACH;FMTTYPE=image/png:https://thethirsty.org/wp-content/uploads/2025/05/Friday_meeting_coloure_g.png
ORGANIZER;CN="The Thirsty Ministries":MAILTO:info@thethirsty.org
END:VEVENT
BEGIN:VEVENT
DTSTART;TZID=America/New_York:20280929T193000
DTEND;TZID=America/New_York:20280929T213000
DTSTAMP:20260425T112916
CREATED:20250531T191834Z
LAST-MODIFIED:20251219T230746Z
UID:10003354-1853868600-1853875800@thethirsty.org
SUMMARY:Friday Meetings
DESCRIPTION:
URL:https://thethirsty.org/event/friday-meetings-new-location/2028-09-29/
LOCATION:Vellore Village Community Centre\, 1 Villa Royale Ave\, Woodbridge\, ON\, L4H 2P3\, Canada
CATEGORIES:Friday Meetings
ATTACH;FMTTYPE=image/png:https://thethirsty.org/wp-content/uploads/2025/05/Friday_meeting_coloure_g.png
ORGANIZER;CN="The Thirsty Ministries":MAILTO:info@thethirsty.org
END:VEVENT
BEGIN:VEVENT
DTSTART;TZID=America/New_York:20281013T193000
DTEND;TZID=America/New_York:20281013T213000
DTSTAMP:20260425T112916
CREATED:20250531T191834Z
LAST-MODIFIED:20251219T230746Z
UID:10003355-1855078200-1855085400@thethirsty.org
SUMMARY:Friday Meetings
DESCRIPTION:
URL:https://thethirsty.org/event/friday-meetings-new-location/2028-10-13/
LOCATION:Vellore Village Community Centre\, 1 Villa Royale Ave\, Woodbridge\, ON\, L4H 2P3\, Canada
CATEGORIES:Friday Meetings
ATTACH;FMTTYPE=image/png:https://thethirsty.org/wp-content/uploads/2025/05/Friday_meeting_coloure_g.png
ORGANIZER;CN="The Thirsty Ministries":MAILTO:info@thethirsty.org
END:VEVENT
BEGIN:VEVENT
DTSTART;TZID=America/New_York:20281027T193000
DTEND;TZID=America/New_York:20281027T213000
DTSTAMP:20260425T112916
CREATED:20250531T191834Z
LAST-MODIFIED:20251219T230746Z
UID:10003356-1856287800-1856295000@thethirsty.org
SUMMARY:Friday Meetings
DESCRIPTION:
URL:https://thethirsty.org/event/friday-meetings-new-location/2028-10-27/
LOCATION:Vellore Village Community Centre\, 1 Villa Royale Ave\, Woodbridge\, ON\, L4H 2P3\, Canada
CATEGORIES:Friday Meetings
ATTACH;FMTTYPE=image/png:https://thethirsty.org/wp-content/uploads/2025/05/Friday_meeting_coloure_g.png
ORGANIZER;CN="The Thirsty Ministries":MAILTO:info@thethirsty.org
END:VEVENT
BEGIN:VEVENT
DTSTART;TZID=America/New_York:20281110T193000
DTEND;TZID=America/New_York:20281110T213000
DTSTAMP:20260425T112916
CREATED:20250531T191834Z
LAST-MODIFIED:20251219T230746Z
UID:10003357-1857497400-1857504600@thethirsty.org
SUMMARY:Friday Meetings
DESCRIPTION:
URL:https://thethirsty.org/event/friday-meetings-new-location/2028-11-10/
LOCATION:Vellore Village Community Centre\, 1 Villa Royale Ave\, Woodbridge\, ON\, L4H 2P3\, Canada
CATEGORIES:Friday Meetings
ATTACH;FMTTYPE=image/png:https://thethirsty.org/wp-content/uploads/2025/05/Friday_meeting_coloure_g.png
ORGANIZER;CN="The Thirsty Ministries":MAILTO:info@thethirsty.org
END:VEVENT
BEGIN:VEVENT
DTSTART;TZID=America/New_York:20281124T193000
DTEND;TZID=America/New_York:20281124T213000
DTSTAMP:20260425T112916
CREATED:20250531T191834Z
LAST-MODIFIED:20251219T230746Z
UID:10003358-1858707000-1858714200@thethirsty.org
SUMMARY:Friday Meetings
DESCRIPTION:
URL:https://thethirsty.org/event/friday-meetings-new-location/2028-11-24/
LOCATION:Vellore Village Community Centre\, 1 Villa Royale Ave\, Woodbridge\, ON\, L4H 2P3\, Canada
CATEGORIES:Friday Meetings
ATTACH;FMTTYPE=image/png:https://thethirsty.org/wp-content/uploads/2025/05/Friday_meeting_coloure_g.png
ORGANIZER;CN="The Thirsty Ministries":MAILTO:info@thethirsty.org
END:VEVENT
BEGIN:VEVENT
DTSTART;TZID=America/New_York:20281208T193000
DTEND;TZID=America/New_York:20281208T213000
DTSTAMP:20260425T112916
CREATED:20250531T191834Z
LAST-MODIFIED:20251219T230746Z
UID:10003359-1859916600-1859923800@thethirsty.org
SUMMARY:Friday Meetings
DESCRIPTION:
URL:https://thethirsty.org/event/friday-meetings-new-location/2028-12-08/
LOCATION:Vellore Village Community Centre\, 1 Villa Royale Ave\, Woodbridge\, ON\, L4H 2P3\, Canada
CATEGORIES:Friday Meetings
ATTACH;FMTTYPE=image/png:https://thethirsty.org/wp-content/uploads/2025/05/Friday_meeting_coloure_g.png
ORGANIZER;CN="The Thirsty Ministries":MAILTO:info@thethirsty.org
END:VEVENT
BEGIN:VEVENT
DTSTART;TZID=America/New_York:20281222T193000
DTEND;TZID=America/New_York:20281222T213000
DTSTAMP:20260425T112916
CREATED:20250531T191834Z
LAST-MODIFIED:20251219T230746Z
UID:10003360-1861126200-1861133400@thethirsty.org
SUMMARY:Friday Meetings
DESCRIPTION:
URL:https://thethirsty.org/event/friday-meetings-new-location/2028-12-22/
LOCATION:Vellore Village Community Centre\, 1 Villa Royale Ave\, Woodbridge\, ON\, L4H 2P3\, Canada
CATEGORIES:Friday Meetings
ATTACH;FMTTYPE=image/png:https://thethirsty.org/wp-content/uploads/2025/05/Friday_meeting_coloure_g.png
ORGANIZER;CN="The Thirsty Ministries":MAILTO:info@thethirsty.org
END:VEVENT
BEGIN:VEVENT
DTSTART;TZID=America/New_York:20290105T193000
DTEND;TZID=America/New_York:20290105T213000
DTSTAMP:20260425T112916
CREATED:20250531T191834Z
LAST-MODIFIED:20251219T230746Z
UID:10003361-1862335800-1862343000@thethirsty.org
SUMMARY:Friday Meetings
DESCRIPTION:
URL:https://thethirsty.org/event/friday-meetings-new-location/2029-01-05/
LOCATION:Vellore Village Community Centre\, 1 Villa Royale Ave\, Woodbridge\, ON\, L4H 2P3\, Canada
CATEGORIES:Friday Meetings
ATTACH;FMTTYPE=image/png:https://thethirsty.org/wp-content/uploads/2025/05/Friday_meeting_coloure_g.png
ORGANIZER;CN="The Thirsty Ministries":MAILTO:info@thethirsty.org
END:VEVENT
BEGIN:VEVENT
DTSTART;TZID=America/New_York:20290119T193000
DTEND;TZID=America/New_York:20290119T213000
DTSTAMP:20260425T112916
CREATED:20250531T191834Z
LAST-MODIFIED:20251219T230746Z
UID:10003362-1863545400-1863552600@thethirsty.org
SUMMARY:Friday Meetings
DESCRIPTION:
URL:https://thethirsty.org/event/friday-meetings-new-location/2029-01-19/
LOCATION:Vellore Village Community Centre\, 1 Villa Royale Ave\, Woodbridge\, ON\, L4H 2P3\, Canada
CATEGORIES:Friday Meetings
ATTACH;FMTTYPE=image/png:https://thethirsty.org/wp-content/uploads/2025/05/Friday_meeting_coloure_g.png
ORGANIZER;CN="The Thirsty Ministries":MAILTO:info@thethirsty.org
END:VEVENT
BEGIN:VEVENT
DTSTART;TZID=America/New_York:20290202T193000
DTEND;TZID=America/New_York:20290202T213000
DTSTAMP:20260425T112916
CREATED:20250531T191834Z
LAST-MODIFIED:20251219T230746Z
UID:10003363-1864755000-1864762200@thethirsty.org
SUMMARY:Friday Meetings
DESCRIPTION:
URL:https://thethirsty.org/event/friday-meetings-new-location/2029-02-02/
LOCATION:Vellore Village Community Centre\, 1 Villa Royale Ave\, Woodbridge\, ON\, L4H 2P3\, Canada
CATEGORIES:Friday Meetings
ATTACH;FMTTYPE=image/png:https://thethirsty.org/wp-content/uploads/2025/05/Friday_meeting_coloure_g.png
ORGANIZER;CN="The Thirsty Ministries":MAILTO:info@thethirsty.org
END:VEVENT
BEGIN:VEVENT
DTSTART;TZID=America/New_York:20290216T193000
DTEND;TZID=America/New_York:20290216T213000
DTSTAMP:20260425T112916
CREATED:20250531T191834Z
LAST-MODIFIED:20251219T230746Z
UID:10003364-1865964600-1865971800@thethirsty.org
SUMMARY:Friday Meetings
DESCRIPTION:
URL:https://thethirsty.org/event/friday-meetings-new-location/2029-02-16/
LOCATION:Vellore Village Community Centre\, 1 Villa Royale Ave\, Woodbridge\, ON\, L4H 2P3\, Canada
CATEGORIES:Friday Meetings
ATTACH;FMTTYPE=image/png:https://thethirsty.org/wp-content/uploads/2025/05/Friday_meeting_coloure_g.png
ORGANIZER;CN="The Thirsty Ministries":MAILTO:info@thethirsty.org
END:VEVENT
BEGIN:VEVENT
DTSTART;TZID=America/New_York:20290302T193000
DTEND;TZID=America/New_York:20290302T213000
DTSTAMP:20260425T112916
CREATED:20250531T191834Z
LAST-MODIFIED:20251219T230746Z
UID:10003365-1867174200-1867181400@thethirsty.org
SUMMARY:Friday Meetings
DESCRIPTION:
URL:https://thethirsty.org/event/friday-meetings-new-location/2029-03-02/
LOCATION:Vellore Village Community Centre\, 1 Villa Royale Ave\, Woodbridge\, ON\, L4H 2P3\, Canada
CATEGORIES:Friday Meetings
ATTACH;FMTTYPE=image/png:https://thethirsty.org/wp-content/uploads/2025/05/Friday_meeting_coloure_g.png
ORGANIZER;CN="The Thirsty Ministries":MAILTO:info@thethirsty.org
END:VEVENT
BEGIN:VEVENT
DTSTART;TZID=America/New_York:20290316T193000
DTEND;TZID=America/New_York:20290316T213000
DTSTAMP:20260425T112916
CREATED:20250531T191834Z
LAST-MODIFIED:20251219T230746Z
UID:10003366-1868383800-1868391000@thethirsty.org
SUMMARY:Friday Meetings
DESCRIPTION:
URL:https://thethirsty.org/event/friday-meetings-new-location/2029-03-16/
LOCATION:Vellore Village Community Centre\, 1 Villa Royale Ave\, Woodbridge\, ON\, L4H 2P3\, Canada
CATEGORIES:Friday Meetings
ATTACH;FMTTYPE=image/png:https://thethirsty.org/wp-content/uploads/2025/05/Friday_meeting_coloure_g.png
ORGANIZER;CN="The Thirsty Ministries":MAILTO:info@thethirsty.org
END:VEVENT
BEGIN:VEVENT
DTSTART;TZID=America/New_York:20290330T193000
DTEND;TZID=America/New_York:20290330T213000
DTSTAMP:20260425T112916
CREATED:20250531T191834Z
LAST-MODIFIED:20251219T230746Z
UID:10003367-1869593400-1869600600@thethirsty.org
SUMMARY:Friday Meetings
DESCRIPTION:
URL:https://thethirsty.org/event/friday-meetings-new-location/2029-03-30/
LOCATION:Vellore Village Community Centre\, 1 Villa Royale Ave\, Woodbridge\, ON\, L4H 2P3\, Canada
CATEGORIES:Friday Meetings
ATTACH;FMTTYPE=image/png:https://thethirsty.org/wp-content/uploads/2025/05/Friday_meeting_coloure_g.png
ORGANIZER;CN="The Thirsty Ministries":MAILTO:info@thethirsty.org
END:VEVENT
BEGIN:VEVENT
DTSTART;TZID=America/New_York:20290413T193000
DTEND;TZID=America/New_York:20290413T213000
DTSTAMP:20260425T112916
CREATED:20250531T191834Z
LAST-MODIFIED:20251219T230746Z
UID:10003368-1870803000-1870810200@thethirsty.org
SUMMARY:Friday Meetings
DESCRIPTION:
URL:https://thethirsty.org/event/friday-meetings-new-location/2029-04-13/
LOCATION:Vellore Village Community Centre\, 1 Villa Royale Ave\, Woodbridge\, ON\, L4H 2P3\, Canada
CATEGORIES:Friday Meetings
ATTACH;FMTTYPE=image/png:https://thethirsty.org/wp-content/uploads/2025/05/Friday_meeting_coloure_g.png
ORGANIZER;CN="The Thirsty Ministries":MAILTO:info@thethirsty.org
END:VEVENT
BEGIN:VEVENT
DTSTART;TZID=America/New_York:20290427T193000
DTEND;TZID=America/New_York:20290427T213000
DTSTAMP:20260425T112916
CREATED:20250531T191834Z
LAST-MODIFIED:20251219T230746Z
UID:10003369-1872012600-1872019800@thethirsty.org
SUMMARY:Friday Meetings
DESCRIPTION:
URL:https://thethirsty.org/event/friday-meetings-new-location/2029-04-27/
LOCATION:Vellore Village Community Centre\, 1 Villa Royale Ave\, Woodbridge\, ON\, L4H 2P3\, Canada
CATEGORIES:Friday Meetings
ATTACH;FMTTYPE=image/png:https://thethirsty.org/wp-content/uploads/2025/05/Friday_meeting_coloure_g.png
ORGANIZER;CN="The Thirsty Ministries":MAILTO:info@thethirsty.org
END:VEVENT
BEGIN:VEVENT
DTSTART;TZID=America/New_York:20290511T193000
DTEND;TZID=America/New_York:20290511T213000
DTSTAMP:20260425T112916
CREATED:20250531T191834Z
LAST-MODIFIED:20251219T230746Z
UID:10003370-1873222200-1873229400@thethirsty.org
SUMMARY:Friday Meetings
DESCRIPTION:
URL:https://thethirsty.org/event/friday-meetings-new-location/2029-05-11/
LOCATION:Vellore Village Community Centre\, 1 Villa Royale Ave\, Woodbridge\, ON\, L4H 2P3\, Canada
CATEGORIES:Friday Meetings
ATTACH;FMTTYPE=image/png:https://thethirsty.org/wp-content/uploads/2025/05/Friday_meeting_coloure_g.png
ORGANIZER;CN="The Thirsty Ministries":MAILTO:info@thethirsty.org
END:VEVENT
BEGIN:VEVENT
DTSTART;TZID=America/New_York:20290525T193000
DTEND;TZID=America/New_York:20290525T213000
DTSTAMP:20260425T112916
CREATED:20250531T191834Z
LAST-MODIFIED:20251219T230746Z
UID:10003371-1874431800-1874439000@thethirsty.org
SUMMARY:Friday Meetings
DESCRIPTION:
URL:https://thethirsty.org/event/friday-meetings-new-location/2029-05-25/
LOCATION:Vellore Village Community Centre\, 1 Villa Royale Ave\, Woodbridge\, ON\, L4H 2P3\, Canada
CATEGORIES:Friday Meetings
ATTACH;FMTTYPE=image/png:https://thethirsty.org/wp-content/uploads/2025/05/Friday_meeting_coloure_g.png
ORGANIZER;CN="The Thirsty Ministries":MAILTO:info@thethirsty.org
END:VEVENT
BEGIN:VEVENT
DTSTART;TZID=America/New_York:20290608T193000
DTEND;TZID=America/New_York:20290608T213000
DTSTAMP:20260425T112916
CREATED:20250531T191834Z
LAST-MODIFIED:20251219T230746Z
UID:10003372-1875641400-1875648600@thethirsty.org
SUMMARY:Friday Meetings
DESCRIPTION:
URL:https://thethirsty.org/event/friday-meetings-new-location/2029-06-08/
LOCATION:Vellore Village Community Centre\, 1 Villa Royale Ave\, Woodbridge\, ON\, L4H 2P3\, Canada
CATEGORIES:Friday Meetings
ATTACH;FMTTYPE=image/png:https://thethirsty.org/wp-content/uploads/2025/05/Friday_meeting_coloure_g.png
ORGANIZER;CN="The Thirsty Ministries":MAILTO:info@thethirsty.org
END:VEVENT
END:VCALENDAR