BEGIN:VCALENDAR
VERSION:2.0
PRODID:-//The Thirsty Ministries - ECPv6.15.20//NONSGML v1.0//EN
CALSCALE:GREGORIAN
METHOD:PUBLISH
X-WR-CALNAME:The Thirsty Ministries
X-ORIGINAL-URL:https://thethirsty.org
X-WR-CALDESC:Events for The Thirsty Ministries
REFRESH-INTERVAL;VALUE=DURATION:PT1H
X-Robots-Tag:noindex
X-PUBLISHED-TTL:PT1H
BEGIN:VTIMEZONE
TZID:America/New_York
BEGIN:DAYLIGHT
TZOFFSETFROM:-0500
TZOFFSETTO:-0400
TZNAME:EDT
DTSTART:20240310T070000
END:DAYLIGHT
BEGIN:STANDARD
TZOFFSETFROM:-0400
TZOFFSETTO:-0500
TZNAME:EST
DTSTART:20241103T060000
END:STANDARD
BEGIN:DAYLIGHT
TZOFFSETFROM:-0500
TZOFFSETTO:-0400
TZNAME:EDT
DTSTART:20250309T070000
END:DAYLIGHT
BEGIN:STANDARD
TZOFFSETFROM:-0400
TZOFFSETTO:-0500
TZNAME:EST
DTSTART:20251102T060000
END:STANDARD
BEGIN:DAYLIGHT
TZOFFSETFROM:-0500
TZOFFSETTO:-0400
TZNAME:EDT
DTSTART:20260308T070000
END:DAYLIGHT
BEGIN:STANDARD
TZOFFSETFROM:-0400
TZOFFSETTO:-0500
TZNAME:EST
DTSTART:20261101T060000
END:STANDARD
END:VTIMEZONE
BEGIN:VEVENT
DTSTART;TZID=America/New_York:20250919T193000
DTEND;TZID=America/New_York:20250919T213000
DTSTAMP:20260425T082903
CREATED:20250531T191834Z
LAST-MODIFIED:20251219T230746Z
UID:10003275-1758310200-1758317400@thethirsty.org
SUMMARY:Friday Meetings
DESCRIPTION:
URL:https://thethirsty.org/event/friday-meetings-new-location/2025-09-19/
LOCATION:Vellore Village Community Centre\, 1 Villa Royale Ave\, Woodbridge\, ON\, L4H 2P3\, Canada
CATEGORIES:Friday Meetings
ATTACH;FMTTYPE=image/png:https://thethirsty.org/wp-content/uploads/2025/05/Friday_meeting_coloure_g.png
ORGANIZER;CN="The Thirsty Ministries":MAILTO:info@thethirsty.org
END:VEVENT
BEGIN:VEVENT
DTSTART;TZID=America/New_York:20250924T193000
DTEND;TZID=America/New_York:20250924T210000
DTSTAMP:20260425T082903
CREATED:20250612T003621Z
LAST-MODIFIED:20260317T221911Z
UID:10004364-1758742200-1758747600@thethirsty.org
SUMMARY:(In-Person) Weekly Intercession Meeting
DESCRIPTION:
URL:https://thethirsty.org/event/in-person-weekly-intercession-meeting/2025-09-24/
LOCATION:Vellore Village Community Centre\, 1 Villa Royale Ave\, Woodbridge\, ON\, L4H 2P3\, Canada
CATEGORIES:Intercession Meetings
ATTACH;FMTTYPE=image/png:https://thethirsty.org/wp-content/uploads/2025/06/Blue-and-White-Modern-Gradient-Weekly-Meeting-Agenda-Instagram-Post.png
ORGANIZER;CN="The Thirsty Ministries":MAILTO:info@thethirsty.org
END:VEVENT
END:VCALENDAR