BEGIN:VCALENDAR
VERSION:2.0
PRODID:-//The Thirsty Ministries - ECPv6.15.20//NONSGML v1.0//EN
CALSCALE:GREGORIAN
METHOD:PUBLISH
X-WR-CALNAME:The Thirsty Ministries
X-ORIGINAL-URL:https://thethirsty.org
X-WR-CALDESC:Events for The Thirsty Ministries
REFRESH-INTERVAL;VALUE=DURATION:PT1H
X-Robots-Tag:noindex
X-PUBLISHED-TTL:PT1H
BEGIN:VTIMEZONE
TZID:America/New_York
BEGIN:DAYLIGHT
TZOFFSETFROM:-0500
TZOFFSETTO:-0400
TZNAME:EDT
DTSTART:20250309T070000
END:DAYLIGHT
BEGIN:STANDARD
TZOFFSETFROM:-0400
TZOFFSETTO:-0500
TZNAME:EST
DTSTART:20251102T060000
END:STANDARD
BEGIN:DAYLIGHT
TZOFFSETFROM:-0500
TZOFFSETTO:-0400
TZNAME:EDT
DTSTART:20260308T070000
END:DAYLIGHT
BEGIN:STANDARD
TZOFFSETFROM:-0400
TZOFFSETTO:-0500
TZNAME:EST
DTSTART:20261101T060000
END:STANDARD
BEGIN:DAYLIGHT
TZOFFSETFROM:-0500
TZOFFSETTO:-0400
TZNAME:EDT
DTSTART:20270314T070000
END:DAYLIGHT
BEGIN:STANDARD
TZOFFSETFROM:-0400
TZOFFSETTO:-0500
TZNAME:EST
DTSTART:20271107T060000
END:STANDARD
END:VTIMEZONE
BEGIN:VEVENT
DTSTART;TZID=America/New_York:20260211T193000
DTEND;TZID=America/New_York:20260211T210000
DTSTAMP:20260425T112611
CREATED:20250612T010615Z
LAST-MODIFIED:20260317T222033Z
UID:10004814-1770838200-1770843600@thethirsty.org
SUMMARY:(On Zoom) Weekly Intercession Meeting
DESCRIPTION:
URL:https://thethirsty.org/event/https-thethirsty-us4-list-manage-com-track-clicku782debe48a03c9cf27dd404a2id076ddd8750e2bba4518e4/2026-02-11/
LOCATION:ON
CATEGORIES:Intercession Meetings
ATTACH;FMTTYPE=image/png:https://thethirsty.org/wp-content/uploads/2025/06/Blue-and-White-Modern-Gradient-Weekly-Meeting-Agenda-Instagram-Post.JPG.png
ORGANIZER;CN="The Thirsty Ministries":MAILTO:info@thethirsty.org
END:VEVENT
BEGIN:VEVENT
DTSTART;TZID=America/New_York:20260212T000000
DTEND;TZID=America/New_York:20260212T235900
DTSTAMP:20260425T112611
CREATED:20260111T010808Z
LAST-MODIFIED:20260111T011103Z
UID:10004981-1770854400-1770940740@thethirsty.org
SUMMARY:Egypt Ministry Trip 2026
DESCRIPTION:
URL:https://thethirsty.org/event/egypt-ministry-trip-2026/2026-02-12/
LOCATION:ON
CATEGORIES:Ministry Trips
ATTACH;FMTTYPE=image/png:https://thethirsty.org/wp-content/uploads/egypt.png
ORGANIZER;CN="The Thirsty Ministries":MAILTO:info@thethirsty.org
END:VEVENT
BEGIN:VEVENT
DTSTART;TZID=America/New_York:20260213T000000
DTEND;TZID=America/New_York:20260213T235900
DTSTAMP:20260425T112611
CREATED:20260111T010808Z
LAST-MODIFIED:20260111T011103Z
UID:10004982-1770940800-1771027140@thethirsty.org
SUMMARY:Egypt Ministry Trip 2026
DESCRIPTION:
URL:https://thethirsty.org/event/egypt-ministry-trip-2026/2026-02-13/
LOCATION:ON
CATEGORIES:Ministry Trips
ATTACH;FMTTYPE=image/png:https://thethirsty.org/wp-content/uploads/egypt.png
ORGANIZER;CN="The Thirsty Ministries":MAILTO:info@thethirsty.org
END:VEVENT
BEGIN:VEVENT
DTSTART;TZID=America/New_York:20260218T193000
DTEND;TZID=America/New_York:20260218T210000
DTSTAMP:20260425T112611
CREATED:20250612T010615Z
LAST-MODIFIED:20260317T222033Z
UID:10004815-1771443000-1771448400@thethirsty.org
SUMMARY:(On Zoom) Weekly Intercession Meeting
DESCRIPTION:
URL:https://thethirsty.org/event/https-thethirsty-us4-list-manage-com-track-clicku782debe48a03c9cf27dd404a2id076ddd8750e2bba4518e4/2026-02-18/
LOCATION:ON
CATEGORIES:Intercession Meetings
ATTACH;FMTTYPE=image/png:https://thethirsty.org/wp-content/uploads/2025/06/Blue-and-White-Modern-Gradient-Weekly-Meeting-Agenda-Instagram-Post.JPG.png
ORGANIZER;CN="The Thirsty Ministries":MAILTO:info@thethirsty.org
END:VEVENT
BEGIN:VEVENT
DTSTART;TZID=America/New_York:20260220T193000
DTEND;TZID=America/New_York:20260220T213000
DTSTAMP:20260425T112611
CREATED:20250531T191834Z
LAST-MODIFIED:20251219T230746Z
UID:10003286-1771615800-1771623000@thethirsty.org
SUMMARY:Friday Meetings
DESCRIPTION:
URL:https://thethirsty.org/event/friday-meetings-new-location/2026-02-20/
LOCATION:Vellore Village Community Centre\, 1 Villa Royale Ave\, Woodbridge\, ON\, L4H 2P3\, Canada
CATEGORIES:Friday Meetings
ATTACH;FMTTYPE=image/png:https://thethirsty.org/wp-content/uploads/2025/05/Friday_meeting_coloure_g.png
ORGANIZER;CN="The Thirsty Ministries":MAILTO:info@thethirsty.org
END:VEVENT
BEGIN:VEVENT
DTSTART;TZID=America/New_York:20260225T193000
DTEND;TZID=America/New_York:20260225T210000
DTSTAMP:20260425T112611
CREATED:20250612T003621Z
LAST-MODIFIED:20260317T221911Z
UID:10004801-1772047800-1772053200@thethirsty.org
SUMMARY:(In-Person) Weekly Intercession Meeting
DESCRIPTION:
URL:https://thethirsty.org/event/in-person-weekly-intercession-meeting/2026-02-25/
LOCATION:Vellore Village Community Centre\, 1 Villa Royale Ave\, Woodbridge\, ON\, L4H 2P3\, Canada
CATEGORIES:Intercession Meetings
ATTACH;FMTTYPE=image/png:https://thethirsty.org/wp-content/uploads/2025/06/Blue-and-White-Modern-Gradient-Weekly-Meeting-Agenda-Instagram-Post.png
ORGANIZER;CN="The Thirsty Ministries":MAILTO:info@thethirsty.org
END:VEVENT
BEGIN:VEVENT
DTSTART;TZID=America/New_York:20260304T193000
DTEND;TZID=America/New_York:20260304T210000
DTSTAMP:20260425T112611
CREATED:20250612T010615Z
LAST-MODIFIED:20260317T222033Z
UID:10004816-1772652600-1772658000@thethirsty.org
SUMMARY:(On Zoom) Weekly Intercession Meeting
DESCRIPTION:
URL:https://thethirsty.org/event/https-thethirsty-us4-list-manage-com-track-clicku782debe48a03c9cf27dd404a2id076ddd8750e2bba4518e4/2026-03-04/
LOCATION:ON
CATEGORIES:Intercession Meetings
ATTACH;FMTTYPE=image/png:https://thethirsty.org/wp-content/uploads/2025/06/Blue-and-White-Modern-Gradient-Weekly-Meeting-Agenda-Instagram-Post.JPG.png
ORGANIZER;CN="The Thirsty Ministries":MAILTO:info@thethirsty.org
END:VEVENT
BEGIN:VEVENT
DTSTART;TZID=America/New_York:20260306T193000
DTEND;TZID=America/New_York:20260306T213000
DTSTAMP:20260425T112611
CREATED:20250531T191834Z
LAST-MODIFIED:20251219T230746Z
UID:10003287-1772825400-1772832600@thethirsty.org
SUMMARY:Friday Meetings
DESCRIPTION:
URL:https://thethirsty.org/event/friday-meetings-new-location/2026-03-06/
LOCATION:Vellore Village Community Centre\, 1 Villa Royale Ave\, Woodbridge\, ON\, L4H 2P3\, Canada
CATEGORIES:Friday Meetings
ATTACH;FMTTYPE=image/png:https://thethirsty.org/wp-content/uploads/2025/05/Friday_meeting_coloure_g.png
ORGANIZER;CN="The Thirsty Ministries":MAILTO:info@thethirsty.org
END:VEVENT
BEGIN:VEVENT
DTSTART;TZID=America/New_York:20260311T193000
DTEND;TZID=America/New_York:20260311T210000
DTSTAMP:20260425T112611
CREATED:20250612T003621Z
LAST-MODIFIED:20260317T221911Z
UID:10004802-1773257400-1773262800@thethirsty.org
SUMMARY:(In-Person) Weekly Intercession Meeting
DESCRIPTION:
URL:https://thethirsty.org/event/in-person-weekly-intercession-meeting/2026-03-11/
LOCATION:Vellore Village Community Centre\, 1 Villa Royale Ave\, Woodbridge\, ON\, L4H 2P3\, Canada
CATEGORIES:Intercession Meetings
ATTACH;FMTTYPE=image/png:https://thethirsty.org/wp-content/uploads/2025/06/Blue-and-White-Modern-Gradient-Weekly-Meeting-Agenda-Instagram-Post.png
ORGANIZER;CN="The Thirsty Ministries":MAILTO:info@thethirsty.org
END:VEVENT
BEGIN:VEVENT
DTSTART;TZID=America/New_York:20260318T193000
DTEND;TZID=America/New_York:20260318T210000
DTSTAMP:20260425T112611
CREATED:20250612T003621Z
LAST-MODIFIED:20260317T221911Z
UID:10004803-1773862200-1773867600@thethirsty.org
SUMMARY:(In-Person) Weekly Intercession Meeting
DESCRIPTION:
URL:https://thethirsty.org/event/in-person-weekly-intercession-meeting/2026-03-18/
LOCATION:Vellore Village Community Centre\, 1 Villa Royale Ave\, Woodbridge\, ON\, L4H 2P3\, Canada
CATEGORIES:Intercession Meetings
ATTACH;FMTTYPE=image/png:https://thethirsty.org/wp-content/uploads/2025/06/Blue-and-White-Modern-Gradient-Weekly-Meeting-Agenda-Instagram-Post.png
ORGANIZER;CN="The Thirsty Ministries":MAILTO:info@thethirsty.org
END:VEVENT
BEGIN:VEVENT
DTSTART;TZID=America/New_York:20260320T193000
DTEND;TZID=America/New_York:20260320T213000
DTSTAMP:20260425T112611
CREATED:20250531T191834Z
LAST-MODIFIED:20251219T230746Z
UID:10003288-1774035000-1774042200@thethirsty.org
SUMMARY:Friday Meetings
DESCRIPTION:
URL:https://thethirsty.org/event/friday-meetings-new-location/2026-03-20/
LOCATION:Vellore Village Community Centre\, 1 Villa Royale Ave\, Woodbridge\, ON\, L4H 2P3\, Canada
CATEGORIES:Friday Meetings
ATTACH;FMTTYPE=image/png:https://thethirsty.org/wp-content/uploads/2025/05/Friday_meeting_coloure_g.png
ORGANIZER;CN="The Thirsty Ministries":MAILTO:info@thethirsty.org
END:VEVENT
BEGIN:VEVENT
DTSTART;TZID=America/New_York:20260325T193000
DTEND;TZID=America/New_York:20260325T210000
DTSTAMP:20260425T112611
CREATED:20250612T010615Z
LAST-MODIFIED:20260317T222033Z
UID:10004817-1774467000-1774472400@thethirsty.org
SUMMARY:(On Zoom) Weekly Intercession Meeting
DESCRIPTION:
URL:https://thethirsty.org/event/https-thethirsty-us4-list-manage-com-track-clicku782debe48a03c9cf27dd404a2id076ddd8750e2bba4518e4/2026-03-25/
LOCATION:ON
CATEGORIES:Intercession Meetings
ATTACH;FMTTYPE=image/png:https://thethirsty.org/wp-content/uploads/2025/06/Blue-and-White-Modern-Gradient-Weekly-Meeting-Agenda-Instagram-Post.JPG.png
ORGANIZER;CN="The Thirsty Ministries":MAILTO:info@thethirsty.org
END:VEVENT
BEGIN:VEVENT
DTSTART;TZID=America/New_York:20260401T193000
DTEND;TZID=America/New_York:20260401T210000
DTSTAMP:20260425T112611
CREATED:20250612T003621Z
LAST-MODIFIED:20260317T221911Z
UID:10004804-1775071800-1775077200@thethirsty.org
SUMMARY:(In-Person) Weekly Intercession Meeting
DESCRIPTION:
URL:https://thethirsty.org/event/in-person-weekly-intercession-meeting/2026-04-01/
LOCATION:Vellore Village Community Centre\, 1 Villa Royale Ave\, Woodbridge\, ON\, L4H 2P3\, Canada
CATEGORIES:Intercession Meetings
ATTACH;FMTTYPE=image/png:https://thethirsty.org/wp-content/uploads/2025/06/Blue-and-White-Modern-Gradient-Weekly-Meeting-Agenda-Instagram-Post.png
ORGANIZER;CN="The Thirsty Ministries":MAILTO:info@thethirsty.org
END:VEVENT
BEGIN:VEVENT
DTSTART;TZID=America/New_York:20260408T193000
DTEND;TZID=America/New_York:20260408T210000
DTSTAMP:20260425T112611
CREATED:20250612T010615Z
LAST-MODIFIED:20260317T222033Z
UID:10004818-1775676600-1775682000@thethirsty.org
SUMMARY:(On Zoom) Weekly Intercession Meeting
DESCRIPTION:
URL:https://thethirsty.org/event/https-thethirsty-us4-list-manage-com-track-clicku782debe48a03c9cf27dd404a2id076ddd8750e2bba4518e4/2026-04-08/
LOCATION:ON
CATEGORIES:Intercession Meetings
ATTACH;FMTTYPE=image/png:https://thethirsty.org/wp-content/uploads/2025/06/Blue-and-White-Modern-Gradient-Weekly-Meeting-Agenda-Instagram-Post.JPG.png
ORGANIZER;CN="The Thirsty Ministries":MAILTO:info@thethirsty.org
END:VEVENT
BEGIN:VEVENT
DTSTART;TZID=America/New_York:20260415T193000
DTEND;TZID=America/New_York:20260415T210000
DTSTAMP:20260425T112611
CREATED:20250612T003621Z
LAST-MODIFIED:20260317T221911Z
UID:10004985-1776281400-1776286800@thethirsty.org
SUMMARY:(In-Person) Weekly Intercession Meeting
DESCRIPTION:
URL:https://thethirsty.org/event/in-person-weekly-intercession-meeting/2026-04-15/
LOCATION:Vellore Village Community Centre\, 1 Villa Royale Ave\, Woodbridge\, ON\, L4H 2P3\, Canada
CATEGORIES:Intercession Meetings
ATTACH;FMTTYPE=image/png:https://thethirsty.org/wp-content/uploads/2025/06/Blue-and-White-Modern-Gradient-Weekly-Meeting-Agenda-Instagram-Post.png
ORGANIZER;CN="The Thirsty Ministries":MAILTO:info@thethirsty.org
END:VEVENT
BEGIN:VEVENT
DTSTART;TZID=America/New_York:20260417T193000
DTEND;TZID=America/New_York:20260417T213000
DTSTAMP:20260425T112611
CREATED:20250531T191834Z
LAST-MODIFIED:20251219T230746Z
UID:10003290-1776454200-1776461400@thethirsty.org
SUMMARY:Friday Meetings
DESCRIPTION:
URL:https://thethirsty.org/event/friday-meetings-new-location/2026-04-17/
LOCATION:Vellore Village Community Centre\, 1 Villa Royale Ave\, Woodbridge\, ON\, L4H 2P3\, Canada
CATEGORIES:Friday Meetings
ATTACH;FMTTYPE=image/png:https://thethirsty.org/wp-content/uploads/2025/05/Friday_meeting_coloure_g.png
ORGANIZER;CN="The Thirsty Ministries":MAILTO:info@thethirsty.org
END:VEVENT
BEGIN:VEVENT
DTSTART;TZID=America/New_York:20260422T193000
DTEND;TZID=America/New_York:20260422T210000
DTSTAMP:20260425T112611
CREATED:20250612T010615Z
LAST-MODIFIED:20260317T222033Z
UID:10004820-1776886200-1776891600@thethirsty.org
SUMMARY:(On Zoom) Weekly Intercession Meeting
DESCRIPTION:
URL:https://thethirsty.org/event/https-thethirsty-us4-list-manage-com-track-clicku782debe48a03c9cf27dd404a2id076ddd8750e2bba4518e4/2026-04-22/
LOCATION:ON
CATEGORIES:Intercession Meetings
ATTACH;FMTTYPE=image/png:https://thethirsty.org/wp-content/uploads/2025/06/Blue-and-White-Modern-Gradient-Weekly-Meeting-Agenda-Instagram-Post.JPG.png
ORGANIZER;CN="The Thirsty Ministries":MAILTO:info@thethirsty.org
END:VEVENT
BEGIN:VEVENT
DTSTART;TZID=America/New_York:20260429T193000
DTEND;TZID=America/New_York:20260429T210000
DTSTAMP:20260425T112611
CREATED:20250612T010615Z
LAST-MODIFIED:20260317T222033Z
UID:10004983-1777491000-1777496400@thethirsty.org
SUMMARY:(On Zoom) Weekly Intercession Meeting
DESCRIPTION:
URL:https://thethirsty.org/event/https-thethirsty-us4-list-manage-com-track-clicku782debe48a03c9cf27dd404a2id076ddd8750e2bba4518e4/2026-04-29/
LOCATION:ON
CATEGORIES:Intercession Meetings
ATTACH;FMTTYPE=image/png:https://thethirsty.org/wp-content/uploads/2025/06/Blue-and-White-Modern-Gradient-Weekly-Meeting-Agenda-Instagram-Post.JPG.png
ORGANIZER;CN="The Thirsty Ministries":MAILTO:info@thethirsty.org
END:VEVENT
BEGIN:VEVENT
DTSTART;TZID=America/New_York:20260501T193000
DTEND;TZID=America/New_York:20260501T213000
DTSTAMP:20260425T112611
CREATED:20250531T191834Z
LAST-MODIFIED:20251219T230746Z
UID:10003291-1777663800-1777671000@thethirsty.org
SUMMARY:Friday Meetings
DESCRIPTION:
URL:https://thethirsty.org/event/friday-meetings-new-location/2026-05-01/
LOCATION:Vellore Village Community Centre\, 1 Villa Royale Ave\, Woodbridge\, ON\, L4H 2P3\, Canada
CATEGORIES:Friday Meetings
ATTACH;FMTTYPE=image/png:https://thethirsty.org/wp-content/uploads/2025/05/Friday_meeting_coloure_g.png
ORGANIZER;CN="The Thirsty Ministries":MAILTO:info@thethirsty.org
END:VEVENT
BEGIN:VEVENT
DTSTART;TZID=America/New_York:20260506T193000
DTEND;TZID=America/New_York:20260506T210000
DTSTAMP:20260425T112611
CREATED:20250612T003621Z
LAST-MODIFIED:20260317T221911Z
UID:10004806-1778095800-1778101200@thethirsty.org
SUMMARY:(In-Person) Weekly Intercession Meeting
DESCRIPTION:
URL:https://thethirsty.org/event/in-person-weekly-intercession-meeting/2026-05-06/
LOCATION:Vellore Village Community Centre\, 1 Villa Royale Ave\, Woodbridge\, ON\, L4H 2P3\, Canada
CATEGORIES:Intercession Meetings
ATTACH;FMTTYPE=image/png:https://thethirsty.org/wp-content/uploads/2025/06/Blue-and-White-Modern-Gradient-Weekly-Meeting-Agenda-Instagram-Post.png
ORGANIZER;CN="The Thirsty Ministries":MAILTO:info@thethirsty.org
END:VEVENT
BEGIN:VEVENT
DTSTART;TZID=America/New_York:20260513T193000
DTEND;TZID=America/New_York:20260513T210000
DTSTAMP:20260425T112611
CREATED:20250612T010615Z
LAST-MODIFIED:20260317T222033Z
UID:10004821-1778700600-1778706000@thethirsty.org
SUMMARY:(On Zoom) Weekly Intercession Meeting
DESCRIPTION:
URL:https://thethirsty.org/event/https-thethirsty-us4-list-manage-com-track-clicku782debe48a03c9cf27dd404a2id076ddd8750e2bba4518e4/2026-05-13/
LOCATION:ON
CATEGORIES:Intercession Meetings
ATTACH;FMTTYPE=image/png:https://thethirsty.org/wp-content/uploads/2025/06/Blue-and-White-Modern-Gradient-Weekly-Meeting-Agenda-Instagram-Post.JPG.png
ORGANIZER;CN="The Thirsty Ministries":MAILTO:info@thethirsty.org
END:VEVENT
BEGIN:VEVENT
DTSTART;TZID=America/New_York:20260515T193000
DTEND;TZID=America/New_York:20260515T213000
DTSTAMP:20260425T112611
CREATED:20250531T191834Z
LAST-MODIFIED:20251219T230746Z
UID:10003292-1778873400-1778880600@thethirsty.org
SUMMARY:Friday Meetings
DESCRIPTION:
URL:https://thethirsty.org/event/friday-meetings-new-location/2026-05-15/
LOCATION:Vellore Village Community Centre\, 1 Villa Royale Ave\, Woodbridge\, ON\, L4H 2P3\, Canada
CATEGORIES:Friday Meetings
ATTACH;FMTTYPE=image/png:https://thethirsty.org/wp-content/uploads/2025/05/Friday_meeting_coloure_g.png
ORGANIZER;CN="The Thirsty Ministries":MAILTO:info@thethirsty.org
END:VEVENT
BEGIN:VEVENT
DTSTART;TZID=America/New_York:20260520T193000
DTEND;TZID=America/New_York:20260520T210000
DTSTAMP:20260425T112611
CREATED:20250612T003621Z
LAST-MODIFIED:20260317T221911Z
UID:10004807-1779305400-1779310800@thethirsty.org
SUMMARY:(In-Person) Weekly Intercession Meeting
DESCRIPTION:
URL:https://thethirsty.org/event/in-person-weekly-intercession-meeting/2026-05-20/
LOCATION:Vellore Village Community Centre\, 1 Villa Royale Ave\, Woodbridge\, ON\, L4H 2P3\, Canada
CATEGORIES:Intercession Meetings
ATTACH;FMTTYPE=image/png:https://thethirsty.org/wp-content/uploads/2025/06/Blue-and-White-Modern-Gradient-Weekly-Meeting-Agenda-Instagram-Post.png
ORGANIZER;CN="The Thirsty Ministries":MAILTO:info@thethirsty.org
END:VEVENT
BEGIN:VEVENT
DTSTART;TZID=America/New_York:20260527T193000
DTEND;TZID=America/New_York:20260527T210000
DTSTAMP:20260425T112611
CREATED:20250612T010615Z
LAST-MODIFIED:20260317T222033Z
UID:10004822-1779910200-1779915600@thethirsty.org
SUMMARY:(On Zoom) Weekly Intercession Meeting
DESCRIPTION:
URL:https://thethirsty.org/event/https-thethirsty-us4-list-manage-com-track-clicku782debe48a03c9cf27dd404a2id076ddd8750e2bba4518e4/2026-05-27/
LOCATION:ON
CATEGORIES:Intercession Meetings
ATTACH;FMTTYPE=image/png:https://thethirsty.org/wp-content/uploads/2025/06/Blue-and-White-Modern-Gradient-Weekly-Meeting-Agenda-Instagram-Post.JPG.png
ORGANIZER;CN="The Thirsty Ministries":MAILTO:info@thethirsty.org
END:VEVENT
BEGIN:VEVENT
DTSTART;TZID=America/New_York:20260529T193000
DTEND;TZID=America/New_York:20260529T213000
DTSTAMP:20260425T112611
CREATED:20250531T191834Z
LAST-MODIFIED:20251219T230746Z
UID:10003293-1780083000-1780090200@thethirsty.org
SUMMARY:Friday Meetings
DESCRIPTION:
URL:https://thethirsty.org/event/friday-meetings-new-location/2026-05-29/
LOCATION:Vellore Village Community Centre\, 1 Villa Royale Ave\, Woodbridge\, ON\, L4H 2P3\, Canada
CATEGORIES:Friday Meetings
ATTACH;FMTTYPE=image/png:https://thethirsty.org/wp-content/uploads/2025/05/Friday_meeting_coloure_g.png
ORGANIZER;CN="The Thirsty Ministries":MAILTO:info@thethirsty.org
END:VEVENT
BEGIN:VEVENT
DTSTART;TZID=America/New_York:20260603T193000
DTEND;TZID=America/New_York:20260603T210000
DTSTAMP:20260425T112611
CREATED:20250612T003621Z
LAST-MODIFIED:20260317T221911Z
UID:10004986-1780515000-1780520400@thethirsty.org
SUMMARY:(In-Person) Weekly Intercession Meeting
DESCRIPTION:
URL:https://thethirsty.org/event/in-person-weekly-intercession-meeting/2026-06-03/
LOCATION:Vellore Village Community Centre\, 1 Villa Royale Ave\, Woodbridge\, ON\, L4H 2P3\, Canada
CATEGORIES:Intercession Meetings
ATTACH;FMTTYPE=image/png:https://thethirsty.org/wp-content/uploads/2025/06/Blue-and-White-Modern-Gradient-Weekly-Meeting-Agenda-Instagram-Post.png
ORGANIZER;CN="The Thirsty Ministries":MAILTO:info@thethirsty.org
END:VEVENT
BEGIN:VEVENT
DTSTART;TZID=America/New_York:20260610T193000
DTEND;TZID=America/New_York:20260610T210000
DTSTAMP:20260425T112611
CREATED:20250612T010615Z
LAST-MODIFIED:20260317T222033Z
UID:10004984-1781119800-1781125200@thethirsty.org
SUMMARY:(On Zoom) Weekly Intercession Meeting
DESCRIPTION:
URL:https://thethirsty.org/event/https-thethirsty-us4-list-manage-com-track-clicku782debe48a03c9cf27dd404a2id076ddd8750e2bba4518e4/2026-06-10/
LOCATION:ON
CATEGORIES:Intercession Meetings
ATTACH;FMTTYPE=image/png:https://thethirsty.org/wp-content/uploads/2025/06/Blue-and-White-Modern-Gradient-Weekly-Meeting-Agenda-Instagram-Post.JPG.png
ORGANIZER;CN="The Thirsty Ministries":MAILTO:info@thethirsty.org
END:VEVENT
BEGIN:VEVENT
DTSTART;TZID=America/New_York:20260612T193000
DTEND;TZID=America/New_York:20260612T213000
DTSTAMP:20260425T112611
CREATED:20250531T191834Z
LAST-MODIFIED:20251219T230746Z
UID:10003294-1781292600-1781299800@thethirsty.org
SUMMARY:Friday Meetings
DESCRIPTION:
URL:https://thethirsty.org/event/friday-meetings-new-location/2026-06-12/
LOCATION:Vellore Village Community Centre\, 1 Villa Royale Ave\, Woodbridge\, ON\, L4H 2P3\, Canada
CATEGORIES:Friday Meetings
ATTACH;FMTTYPE=image/png:https://thethirsty.org/wp-content/uploads/2025/05/Friday_meeting_coloure_g.png
ORGANIZER;CN="The Thirsty Ministries":MAILTO:info@thethirsty.org
END:VEVENT
BEGIN:VEVENT
DTSTART;TZID=America/New_York:20260617T193000
DTEND;TZID=America/New_York:20260617T210000
DTSTAMP:20260425T112611
CREATED:20250612T010615Z
LAST-MODIFIED:20260317T222033Z
UID:10004824-1781724600-1781730000@thethirsty.org
SUMMARY:(On Zoom) Weekly Intercession Meeting
DESCRIPTION:
URL:https://thethirsty.org/event/https-thethirsty-us4-list-manage-com-track-clicku782debe48a03c9cf27dd404a2id076ddd8750e2bba4518e4/2026-06-17/
LOCATION:ON
CATEGORIES:Intercession Meetings
ATTACH;FMTTYPE=image/png:https://thethirsty.org/wp-content/uploads/2025/06/Blue-and-White-Modern-Gradient-Weekly-Meeting-Agenda-Instagram-Post.JPG.png
ORGANIZER;CN="The Thirsty Ministries":MAILTO:info@thethirsty.org
END:VEVENT
BEGIN:VEVENT
DTSTART;TZID=America/New_York:20260624T193000
DTEND;TZID=America/New_York:20260624T210000
DTSTAMP:20260425T112611
CREATED:20250612T003621Z
LAST-MODIFIED:20260317T221911Z
UID:10004809-1782329400-1782334800@thethirsty.org
SUMMARY:(In-Person) Weekly Intercession Meeting
DESCRIPTION:
URL:https://thethirsty.org/event/in-person-weekly-intercession-meeting/2026-06-24/
LOCATION:Vellore Village Community Centre\, 1 Villa Royale Ave\, Woodbridge\, ON\, L4H 2P3\, Canada
CATEGORIES:Intercession Meetings
ATTACH;FMTTYPE=image/png:https://thethirsty.org/wp-content/uploads/2025/06/Blue-and-White-Modern-Gradient-Weekly-Meeting-Agenda-Instagram-Post.png
ORGANIZER;CN="The Thirsty Ministries":MAILTO:info@thethirsty.org
END:VEVENT
END:VCALENDAR