BEGIN:VCALENDAR
VERSION:2.0
PRODID:-//The Thirsty Ministries - ECPv6.15.20//NONSGML v1.0//EN
CALSCALE:GREGORIAN
METHOD:PUBLISH
X-WR-CALNAME:The Thirsty Ministries
X-ORIGINAL-URL:https://thethirsty.org
X-WR-CALDESC:Events for The Thirsty Ministries
REFRESH-INTERVAL;VALUE=DURATION:PT1H
X-Robots-Tag:noindex
X-PUBLISHED-TTL:PT1H
BEGIN:VTIMEZONE
TZID:America/New_York
BEGIN:DAYLIGHT
TZOFFSETFROM:-0500
TZOFFSETTO:-0400
TZNAME:EDT
DTSTART:20250309T070000
END:DAYLIGHT
BEGIN:STANDARD
TZOFFSETFROM:-0400
TZOFFSETTO:-0500
TZNAME:EST
DTSTART:20251102T060000
END:STANDARD
BEGIN:DAYLIGHT
TZOFFSETFROM:-0500
TZOFFSETTO:-0400
TZNAME:EDT
DTSTART:20260308T070000
END:DAYLIGHT
BEGIN:STANDARD
TZOFFSETFROM:-0400
TZOFFSETTO:-0500
TZNAME:EST
DTSTART:20261101T060000
END:STANDARD
BEGIN:DAYLIGHT
TZOFFSETFROM:-0500
TZOFFSETTO:-0400
TZNAME:EDT
DTSTART:20270314T070000
END:DAYLIGHT
BEGIN:STANDARD
TZOFFSETFROM:-0400
TZOFFSETTO:-0500
TZNAME:EST
DTSTART:20271107T060000
END:STANDARD
BEGIN:DAYLIGHT
TZOFFSETFROM:-0500
TZOFFSETTO:-0400
TZNAME:EDT
DTSTART:20280312T070000
END:DAYLIGHT
BEGIN:STANDARD
TZOFFSETFROM:-0400
TZOFFSETTO:-0500
TZNAME:EST
DTSTART:20281105T060000
END:STANDARD
BEGIN:DAYLIGHT
TZOFFSETFROM:-0500
TZOFFSETTO:-0400
TZNAME:EDT
DTSTART:20290311T070000
END:DAYLIGHT
BEGIN:STANDARD
TZOFFSETFROM:-0400
TZOFFSETTO:-0500
TZNAME:EST
DTSTART:20291104T060000
END:STANDARD
END:VTIMEZONE
BEGIN:VEVENT
DTSTART;TZID=America/New_York:20261225T193000
DTEND;TZID=America/New_York:20261225T213000
DTSTAMP:20260425T074153
CREATED:20250531T191834Z
LAST-MODIFIED:20251219T230746Z
UID:10003308-1798227000-1798234200@thethirsty.org
SUMMARY:Friday Meetings
DESCRIPTION:
URL:https://thethirsty.org/event/friday-meetings-new-location/2026-12-25/
LOCATION:Vellore Village Community Centre\, 1 Villa Royale Ave\, Woodbridge\, ON\, L4H 2P3\, Canada
CATEGORIES:Friday Meetings
ATTACH;FMTTYPE=image/png:https://thethirsty.org/wp-content/uploads/2025/05/Friday_meeting_coloure_g.png
ORGANIZER;CN="The Thirsty Ministries":MAILTO:info@thethirsty.org
END:VEVENT
BEGIN:VEVENT
DTSTART;TZID=America/New_York:20270108T193000
DTEND;TZID=America/New_York:20270108T213000
DTSTAMP:20260425T074153
CREATED:20250531T191834Z
LAST-MODIFIED:20251219T230746Z
UID:10003309-1799436600-1799443800@thethirsty.org
SUMMARY:Friday Meetings
DESCRIPTION:
URL:https://thethirsty.org/event/friday-meetings-new-location/2027-01-08/
LOCATION:Vellore Village Community Centre\, 1 Villa Royale Ave\, Woodbridge\, ON\, L4H 2P3\, Canada
CATEGORIES:Friday Meetings
ATTACH;FMTTYPE=image/png:https://thethirsty.org/wp-content/uploads/2025/05/Friday_meeting_coloure_g.png
ORGANIZER;CN="The Thirsty Ministries":MAILTO:info@thethirsty.org
END:VEVENT
BEGIN:VEVENT
DTSTART;TZID=America/New_York:20270122T193000
DTEND;TZID=America/New_York:20270122T213000
DTSTAMP:20260425T074153
CREATED:20250531T191834Z
LAST-MODIFIED:20251219T230746Z
UID:10003310-1800646200-1800653400@thethirsty.org
SUMMARY:Friday Meetings
DESCRIPTION:
URL:https://thethirsty.org/event/friday-meetings-new-location/2027-01-22/
LOCATION:Vellore Village Community Centre\, 1 Villa Royale Ave\, Woodbridge\, ON\, L4H 2P3\, Canada
CATEGORIES:Friday Meetings
ATTACH;FMTTYPE=image/png:https://thethirsty.org/wp-content/uploads/2025/05/Friday_meeting_coloure_g.png
ORGANIZER;CN="The Thirsty Ministries":MAILTO:info@thethirsty.org
END:VEVENT
BEGIN:VEVENT
DTSTART;TZID=America/New_York:20270205T193000
DTEND;TZID=America/New_York:20270205T213000
DTSTAMP:20260425T074153
CREATED:20250531T191834Z
LAST-MODIFIED:20251219T230746Z
UID:10003311-1801855800-1801863000@thethirsty.org
SUMMARY:Friday Meetings
DESCRIPTION:
URL:https://thethirsty.org/event/friday-meetings-new-location/2027-02-05/
LOCATION:Vellore Village Community Centre\, 1 Villa Royale Ave\, Woodbridge\, ON\, L4H 2P3\, Canada
CATEGORIES:Friday Meetings
ATTACH;FMTTYPE=image/png:https://thethirsty.org/wp-content/uploads/2025/05/Friday_meeting_coloure_g.png
ORGANIZER;CN="The Thirsty Ministries":MAILTO:info@thethirsty.org
END:VEVENT
BEGIN:VEVENT
DTSTART;TZID=America/New_York:20270219T193000
DTEND;TZID=America/New_York:20270219T213000
DTSTAMP:20260425T074153
CREATED:20250531T191834Z
LAST-MODIFIED:20251219T230746Z
UID:10003312-1803065400-1803072600@thethirsty.org
SUMMARY:Friday Meetings
DESCRIPTION:
URL:https://thethirsty.org/event/friday-meetings-new-location/2027-02-19/
LOCATION:Vellore Village Community Centre\, 1 Villa Royale Ave\, Woodbridge\, ON\, L4H 2P3\, Canada
CATEGORIES:Friday Meetings
ATTACH;FMTTYPE=image/png:https://thethirsty.org/wp-content/uploads/2025/05/Friday_meeting_coloure_g.png
ORGANIZER;CN="The Thirsty Ministries":MAILTO:info@thethirsty.org
END:VEVENT
BEGIN:VEVENT
DTSTART;TZID=America/New_York:20270305T193000
DTEND;TZID=America/New_York:20270305T213000
DTSTAMP:20260425T074153
CREATED:20250531T191834Z
LAST-MODIFIED:20251219T230746Z
UID:10003313-1804275000-1804282200@thethirsty.org
SUMMARY:Friday Meetings
DESCRIPTION:
URL:https://thethirsty.org/event/friday-meetings-new-location/2027-03-05/
LOCATION:Vellore Village Community Centre\, 1 Villa Royale Ave\, Woodbridge\, ON\, L4H 2P3\, Canada
CATEGORIES:Friday Meetings
ATTACH;FMTTYPE=image/png:https://thethirsty.org/wp-content/uploads/2025/05/Friday_meeting_coloure_g.png
ORGANIZER;CN="The Thirsty Ministries":MAILTO:info@thethirsty.org
END:VEVENT
BEGIN:VEVENT
DTSTART;TZID=America/New_York:20270319T193000
DTEND;TZID=America/New_York:20270319T213000
DTSTAMP:20260425T074153
CREATED:20250531T191834Z
LAST-MODIFIED:20251219T230746Z
UID:10003314-1805484600-1805491800@thethirsty.org
SUMMARY:Friday Meetings
DESCRIPTION:
URL:https://thethirsty.org/event/friday-meetings-new-location/2027-03-19/
LOCATION:Vellore Village Community Centre\, 1 Villa Royale Ave\, Woodbridge\, ON\, L4H 2P3\, Canada
CATEGORIES:Friday Meetings
ATTACH;FMTTYPE=image/png:https://thethirsty.org/wp-content/uploads/2025/05/Friday_meeting_coloure_g.png
ORGANIZER;CN="The Thirsty Ministries":MAILTO:info@thethirsty.org
END:VEVENT
BEGIN:VEVENT
DTSTART;TZID=America/New_York:20270402T193000
DTEND;TZID=America/New_York:20270402T213000
DTSTAMP:20260425T074153
CREATED:20250531T191834Z
LAST-MODIFIED:20251219T230746Z
UID:10003315-1806694200-1806701400@thethirsty.org
SUMMARY:Friday Meetings
DESCRIPTION:
URL:https://thethirsty.org/event/friday-meetings-new-location/2027-04-02/
LOCATION:Vellore Village Community Centre\, 1 Villa Royale Ave\, Woodbridge\, ON\, L4H 2P3\, Canada
CATEGORIES:Friday Meetings
ATTACH;FMTTYPE=image/png:https://thethirsty.org/wp-content/uploads/2025/05/Friday_meeting_coloure_g.png
ORGANIZER;CN="The Thirsty Ministries":MAILTO:info@thethirsty.org
END:VEVENT
BEGIN:VEVENT
DTSTART;TZID=America/New_York:20270416T193000
DTEND;TZID=America/New_York:20270416T213000
DTSTAMP:20260425T074153
CREATED:20250531T191834Z
LAST-MODIFIED:20251219T230746Z
UID:10003316-1807903800-1807911000@thethirsty.org
SUMMARY:Friday Meetings
DESCRIPTION:
URL:https://thethirsty.org/event/friday-meetings-new-location/2027-04-16/
LOCATION:Vellore Village Community Centre\, 1 Villa Royale Ave\, Woodbridge\, ON\, L4H 2P3\, Canada
CATEGORIES:Friday Meetings
ATTACH;FMTTYPE=image/png:https://thethirsty.org/wp-content/uploads/2025/05/Friday_meeting_coloure_g.png
ORGANIZER;CN="The Thirsty Ministries":MAILTO:info@thethirsty.org
END:VEVENT
BEGIN:VEVENT
DTSTART;TZID=America/New_York:20270430T193000
DTEND;TZID=America/New_York:20270430T213000
DTSTAMP:20260425T074153
CREATED:20250531T191834Z
LAST-MODIFIED:20251219T230746Z
UID:10003317-1809113400-1809120600@thethirsty.org
SUMMARY:Friday Meetings
DESCRIPTION:
URL:https://thethirsty.org/event/friday-meetings-new-location/2027-04-30/
LOCATION:Vellore Village Community Centre\, 1 Villa Royale Ave\, Woodbridge\, ON\, L4H 2P3\, Canada
CATEGORIES:Friday Meetings
ATTACH;FMTTYPE=image/png:https://thethirsty.org/wp-content/uploads/2025/05/Friday_meeting_coloure_g.png
ORGANIZER;CN="The Thirsty Ministries":MAILTO:info@thethirsty.org
END:VEVENT
BEGIN:VEVENT
DTSTART;TZID=America/New_York:20270514T193000
DTEND;TZID=America/New_York:20270514T213000
DTSTAMP:20260425T074153
CREATED:20250531T191834Z
LAST-MODIFIED:20251219T230746Z
UID:10003318-1810323000-1810330200@thethirsty.org
SUMMARY:Friday Meetings
DESCRIPTION:
URL:https://thethirsty.org/event/friday-meetings-new-location/2027-05-14/
LOCATION:Vellore Village Community Centre\, 1 Villa Royale Ave\, Woodbridge\, ON\, L4H 2P3\, Canada
CATEGORIES:Friday Meetings
ATTACH;FMTTYPE=image/png:https://thethirsty.org/wp-content/uploads/2025/05/Friday_meeting_coloure_g.png
ORGANIZER;CN="The Thirsty Ministries":MAILTO:info@thethirsty.org
END:VEVENT
BEGIN:VEVENT
DTSTART;TZID=America/New_York:20270528T193000
DTEND;TZID=America/New_York:20270528T213000
DTSTAMP:20260425T074153
CREATED:20250531T191834Z
LAST-MODIFIED:20251219T230746Z
UID:10003319-1811532600-1811539800@thethirsty.org
SUMMARY:Friday Meetings
DESCRIPTION:
URL:https://thethirsty.org/event/friday-meetings-new-location/2027-05-28/
LOCATION:Vellore Village Community Centre\, 1 Villa Royale Ave\, Woodbridge\, ON\, L4H 2P3\, Canada
CATEGORIES:Friday Meetings
ATTACH;FMTTYPE=image/png:https://thethirsty.org/wp-content/uploads/2025/05/Friday_meeting_coloure_g.png
ORGANIZER;CN="The Thirsty Ministries":MAILTO:info@thethirsty.org
END:VEVENT
BEGIN:VEVENT
DTSTART;TZID=America/New_York:20270611T193000
DTEND;TZID=America/New_York:20270611T213000
DTSTAMP:20260425T074153
CREATED:20250531T191834Z
LAST-MODIFIED:20251219T230746Z
UID:10003320-1812742200-1812749400@thethirsty.org
SUMMARY:Friday Meetings
DESCRIPTION:
URL:https://thethirsty.org/event/friday-meetings-new-location/2027-06-11/
LOCATION:Vellore Village Community Centre\, 1 Villa Royale Ave\, Woodbridge\, ON\, L4H 2P3\, Canada
CATEGORIES:Friday Meetings
ATTACH;FMTTYPE=image/png:https://thethirsty.org/wp-content/uploads/2025/05/Friday_meeting_coloure_g.png
ORGANIZER;CN="The Thirsty Ministries":MAILTO:info@thethirsty.org
END:VEVENT
BEGIN:VEVENT
DTSTART;TZID=America/New_York:20270625T193000
DTEND;TZID=America/New_York:20270625T213000
DTSTAMP:20260425T074153
CREATED:20250531T191834Z
LAST-MODIFIED:20251219T230746Z
UID:10003321-1813951800-1813959000@thethirsty.org
SUMMARY:Friday Meetings
DESCRIPTION:
URL:https://thethirsty.org/event/friday-meetings-new-location/2027-06-25/
LOCATION:Vellore Village Community Centre\, 1 Villa Royale Ave\, Woodbridge\, ON\, L4H 2P3\, Canada
CATEGORIES:Friday Meetings
ATTACH;FMTTYPE=image/png:https://thethirsty.org/wp-content/uploads/2025/05/Friday_meeting_coloure_g.png
ORGANIZER;CN="The Thirsty Ministries":MAILTO:info@thethirsty.org
END:VEVENT
BEGIN:VEVENT
DTSTART;TZID=America/New_York:20270709T193000
DTEND;TZID=America/New_York:20270709T213000
DTSTAMP:20260425T074153
CREATED:20250531T191834Z
LAST-MODIFIED:20251219T230746Z
UID:10003322-1815161400-1815168600@thethirsty.org
SUMMARY:Friday Meetings
DESCRIPTION:
URL:https://thethirsty.org/event/friday-meetings-new-location/2027-07-09/
LOCATION:Vellore Village Community Centre\, 1 Villa Royale Ave\, Woodbridge\, ON\, L4H 2P3\, Canada
CATEGORIES:Friday Meetings
ATTACH;FMTTYPE=image/png:https://thethirsty.org/wp-content/uploads/2025/05/Friday_meeting_coloure_g.png
ORGANIZER;CN="The Thirsty Ministries":MAILTO:info@thethirsty.org
END:VEVENT
BEGIN:VEVENT
DTSTART;TZID=America/New_York:20270723T193000
DTEND;TZID=America/New_York:20270723T213000
DTSTAMP:20260425T074153
CREATED:20250531T191834Z
LAST-MODIFIED:20251219T230746Z
UID:10003323-1816371000-1816378200@thethirsty.org
SUMMARY:Friday Meetings
DESCRIPTION:
URL:https://thethirsty.org/event/friday-meetings-new-location/2027-07-23/
LOCATION:Vellore Village Community Centre\, 1 Villa Royale Ave\, Woodbridge\, ON\, L4H 2P3\, Canada
CATEGORIES:Friday Meetings
ATTACH;FMTTYPE=image/png:https://thethirsty.org/wp-content/uploads/2025/05/Friday_meeting_coloure_g.png
ORGANIZER;CN="The Thirsty Ministries":MAILTO:info@thethirsty.org
END:VEVENT
BEGIN:VEVENT
DTSTART;TZID=America/New_York:20270806T193000
DTEND;TZID=America/New_York:20270806T213000
DTSTAMP:20260425T074153
CREATED:20250531T191834Z
LAST-MODIFIED:20251219T230746Z
UID:10003324-1817580600-1817587800@thethirsty.org
SUMMARY:Friday Meetings
DESCRIPTION:
URL:https://thethirsty.org/event/friday-meetings-new-location/2027-08-06/
LOCATION:Vellore Village Community Centre\, 1 Villa Royale Ave\, Woodbridge\, ON\, L4H 2P3\, Canada
CATEGORIES:Friday Meetings
ATTACH;FMTTYPE=image/png:https://thethirsty.org/wp-content/uploads/2025/05/Friday_meeting_coloure_g.png
ORGANIZER;CN="The Thirsty Ministries":MAILTO:info@thethirsty.org
END:VEVENT
BEGIN:VEVENT
DTSTART;TZID=America/New_York:20270820T193000
DTEND;TZID=America/New_York:20270820T213000
DTSTAMP:20260425T074153
CREATED:20250531T191834Z
LAST-MODIFIED:20251219T230746Z
UID:10003325-1818790200-1818797400@thethirsty.org
SUMMARY:Friday Meetings
DESCRIPTION:
URL:https://thethirsty.org/event/friday-meetings-new-location/2027-08-20/
LOCATION:Vellore Village Community Centre\, 1 Villa Royale Ave\, Woodbridge\, ON\, L4H 2P3\, Canada
CATEGORIES:Friday Meetings
ATTACH;FMTTYPE=image/png:https://thethirsty.org/wp-content/uploads/2025/05/Friday_meeting_coloure_g.png
ORGANIZER;CN="The Thirsty Ministries":MAILTO:info@thethirsty.org
END:VEVENT
BEGIN:VEVENT
DTSTART;TZID=America/New_York:20270903T193000
DTEND;TZID=America/New_York:20270903T213000
DTSTAMP:20260425T074153
CREATED:20250531T191834Z
LAST-MODIFIED:20251219T230746Z
UID:10003326-1819999800-1820007000@thethirsty.org
SUMMARY:Friday Meetings
DESCRIPTION:
URL:https://thethirsty.org/event/friday-meetings-new-location/2027-09-03/
LOCATION:Vellore Village Community Centre\, 1 Villa Royale Ave\, Woodbridge\, ON\, L4H 2P3\, Canada
CATEGORIES:Friday Meetings
ATTACH;FMTTYPE=image/png:https://thethirsty.org/wp-content/uploads/2025/05/Friday_meeting_coloure_g.png
ORGANIZER;CN="The Thirsty Ministries":MAILTO:info@thethirsty.org
END:VEVENT
BEGIN:VEVENT
DTSTART;TZID=America/New_York:20270917T193000
DTEND;TZID=America/New_York:20270917T213000
DTSTAMP:20260425T074153
CREATED:20250531T191834Z
LAST-MODIFIED:20251219T230746Z
UID:10003327-1821209400-1821216600@thethirsty.org
SUMMARY:Friday Meetings
DESCRIPTION:
URL:https://thethirsty.org/event/friday-meetings-new-location/2027-09-17/
LOCATION:Vellore Village Community Centre\, 1 Villa Royale Ave\, Woodbridge\, ON\, L4H 2P3\, Canada
CATEGORIES:Friday Meetings
ATTACH;FMTTYPE=image/png:https://thethirsty.org/wp-content/uploads/2025/05/Friday_meeting_coloure_g.png
ORGANIZER;CN="The Thirsty Ministries":MAILTO:info@thethirsty.org
END:VEVENT
BEGIN:VEVENT
DTSTART;TZID=America/New_York:20271001T193000
DTEND;TZID=America/New_York:20271001T213000
DTSTAMP:20260425T074153
CREATED:20250531T191834Z
LAST-MODIFIED:20251219T230746Z
UID:10003328-1822419000-1822426200@thethirsty.org
SUMMARY:Friday Meetings
DESCRIPTION:
URL:https://thethirsty.org/event/friday-meetings-new-location/2027-10-01/
LOCATION:Vellore Village Community Centre\, 1 Villa Royale Ave\, Woodbridge\, ON\, L4H 2P3\, Canada
CATEGORIES:Friday Meetings
ATTACH;FMTTYPE=image/png:https://thethirsty.org/wp-content/uploads/2025/05/Friday_meeting_coloure_g.png
ORGANIZER;CN="The Thirsty Ministries":MAILTO:info@thethirsty.org
END:VEVENT
BEGIN:VEVENT
DTSTART;TZID=America/New_York:20271015T193000
DTEND;TZID=America/New_York:20271015T213000
DTSTAMP:20260425T074153
CREATED:20250531T191834Z
LAST-MODIFIED:20251219T230746Z
UID:10003329-1823628600-1823635800@thethirsty.org
SUMMARY:Friday Meetings
DESCRIPTION:
URL:https://thethirsty.org/event/friday-meetings-new-location/2027-10-15/
LOCATION:Vellore Village Community Centre\, 1 Villa Royale Ave\, Woodbridge\, ON\, L4H 2P3\, Canada
CATEGORIES:Friday Meetings
ATTACH;FMTTYPE=image/png:https://thethirsty.org/wp-content/uploads/2025/05/Friday_meeting_coloure_g.png
ORGANIZER;CN="The Thirsty Ministries":MAILTO:info@thethirsty.org
END:VEVENT
BEGIN:VEVENT
DTSTART;TZID=America/New_York:20271029T193000
DTEND;TZID=America/New_York:20271029T213000
DTSTAMP:20260425T074153
CREATED:20250531T191834Z
LAST-MODIFIED:20251219T230746Z
UID:10003330-1824838200-1824845400@thethirsty.org
SUMMARY:Friday Meetings
DESCRIPTION:
URL:https://thethirsty.org/event/friday-meetings-new-location/2027-10-29/
LOCATION:Vellore Village Community Centre\, 1 Villa Royale Ave\, Woodbridge\, ON\, L4H 2P3\, Canada
CATEGORIES:Friday Meetings
ATTACH;FMTTYPE=image/png:https://thethirsty.org/wp-content/uploads/2025/05/Friday_meeting_coloure_g.png
ORGANIZER;CN="The Thirsty Ministries":MAILTO:info@thethirsty.org
END:VEVENT
BEGIN:VEVENT
DTSTART;TZID=America/New_York:20271112T193000
DTEND;TZID=America/New_York:20271112T213000
DTSTAMP:20260425T074153
CREATED:20250531T191834Z
LAST-MODIFIED:20251219T230746Z
UID:10003331-1826047800-1826055000@thethirsty.org
SUMMARY:Friday Meetings
DESCRIPTION:
URL:https://thethirsty.org/event/friday-meetings-new-location/2027-11-12/
LOCATION:Vellore Village Community Centre\, 1 Villa Royale Ave\, Woodbridge\, ON\, L4H 2P3\, Canada
CATEGORIES:Friday Meetings
ATTACH;FMTTYPE=image/png:https://thethirsty.org/wp-content/uploads/2025/05/Friday_meeting_coloure_g.png
ORGANIZER;CN="The Thirsty Ministries":MAILTO:info@thethirsty.org
END:VEVENT
BEGIN:VEVENT
DTSTART;TZID=America/New_York:20271126T193000
DTEND;TZID=America/New_York:20271126T213000
DTSTAMP:20260425T074153
CREATED:20250531T191834Z
LAST-MODIFIED:20251219T230746Z
UID:10003332-1827257400-1827264600@thethirsty.org
SUMMARY:Friday Meetings
DESCRIPTION:
URL:https://thethirsty.org/event/friday-meetings-new-location/2027-11-26/
LOCATION:Vellore Village Community Centre\, 1 Villa Royale Ave\, Woodbridge\, ON\, L4H 2P3\, Canada
CATEGORIES:Friday Meetings
ATTACH;FMTTYPE=image/png:https://thethirsty.org/wp-content/uploads/2025/05/Friday_meeting_coloure_g.png
ORGANIZER;CN="The Thirsty Ministries":MAILTO:info@thethirsty.org
END:VEVENT
BEGIN:VEVENT
DTSTART;TZID=America/New_York:20271210T193000
DTEND;TZID=America/New_York:20271210T213000
DTSTAMP:20260425T074153
CREATED:20250531T191834Z
LAST-MODIFIED:20251219T230746Z
UID:10003333-1828467000-1828474200@thethirsty.org
SUMMARY:Friday Meetings
DESCRIPTION:
URL:https://thethirsty.org/event/friday-meetings-new-location/2027-12-10/
LOCATION:Vellore Village Community Centre\, 1 Villa Royale Ave\, Woodbridge\, ON\, L4H 2P3\, Canada
CATEGORIES:Friday Meetings
ATTACH;FMTTYPE=image/png:https://thethirsty.org/wp-content/uploads/2025/05/Friday_meeting_coloure_g.png
ORGANIZER;CN="The Thirsty Ministries":MAILTO:info@thethirsty.org
END:VEVENT
BEGIN:VEVENT
DTSTART;TZID=America/New_York:20271224T193000
DTEND;TZID=America/New_York:20271224T213000
DTSTAMP:20260425T074153
CREATED:20250531T191834Z
LAST-MODIFIED:20251219T230746Z
UID:10003334-1829676600-1829683800@thethirsty.org
SUMMARY:Friday Meetings
DESCRIPTION:
URL:https://thethirsty.org/event/friday-meetings-new-location/2027-12-24/
LOCATION:Vellore Village Community Centre\, 1 Villa Royale Ave\, Woodbridge\, ON\, L4H 2P3\, Canada
CATEGORIES:Friday Meetings
ATTACH;FMTTYPE=image/png:https://thethirsty.org/wp-content/uploads/2025/05/Friday_meeting_coloure_g.png
ORGANIZER;CN="The Thirsty Ministries":MAILTO:info@thethirsty.org
END:VEVENT
BEGIN:VEVENT
DTSTART;TZID=America/New_York:20280107T193000
DTEND;TZID=America/New_York:20280107T213000
DTSTAMP:20260425T074153
CREATED:20250531T191834Z
LAST-MODIFIED:20251219T230746Z
UID:10003335-1830886200-1830893400@thethirsty.org
SUMMARY:Friday Meetings
DESCRIPTION:
URL:https://thethirsty.org/event/friday-meetings-new-location/2028-01-07/
LOCATION:Vellore Village Community Centre\, 1 Villa Royale Ave\, Woodbridge\, ON\, L4H 2P3\, Canada
CATEGORIES:Friday Meetings
ATTACH;FMTTYPE=image/png:https://thethirsty.org/wp-content/uploads/2025/05/Friday_meeting_coloure_g.png
ORGANIZER;CN="The Thirsty Ministries":MAILTO:info@thethirsty.org
END:VEVENT
BEGIN:VEVENT
DTSTART;TZID=America/New_York:20280121T193000
DTEND;TZID=America/New_York:20280121T213000
DTSTAMP:20260425T074153
CREATED:20250531T191834Z
LAST-MODIFIED:20251219T230746Z
UID:10003336-1832095800-1832103000@thethirsty.org
SUMMARY:Friday Meetings
DESCRIPTION:
URL:https://thethirsty.org/event/friday-meetings-new-location/2028-01-21/
LOCATION:Vellore Village Community Centre\, 1 Villa Royale Ave\, Woodbridge\, ON\, L4H 2P3\, Canada
CATEGORIES:Friday Meetings
ATTACH;FMTTYPE=image/png:https://thethirsty.org/wp-content/uploads/2025/05/Friday_meeting_coloure_g.png
ORGANIZER;CN="The Thirsty Ministries":MAILTO:info@thethirsty.org
END:VEVENT
BEGIN:VEVENT
DTSTART;TZID=America/New_York:20280204T193000
DTEND;TZID=America/New_York:20280204T213000
DTSTAMP:20260425T074153
CREATED:20250531T191834Z
LAST-MODIFIED:20251219T230746Z
UID:10003337-1833305400-1833312600@thethirsty.org
SUMMARY:Friday Meetings
DESCRIPTION:
URL:https://thethirsty.org/event/friday-meetings-new-location/2028-02-04/
LOCATION:Vellore Village Community Centre\, 1 Villa Royale Ave\, Woodbridge\, ON\, L4H 2P3\, Canada
CATEGORIES:Friday Meetings
ATTACH;FMTTYPE=image/png:https://thethirsty.org/wp-content/uploads/2025/05/Friday_meeting_coloure_g.png
ORGANIZER;CN="The Thirsty Ministries":MAILTO:info@thethirsty.org
END:VEVENT
END:VCALENDAR