BEGIN:VCALENDAR
VERSION:2.0
PRODID:-//The Thirsty Ministries - ECPv6.15.20//NONSGML v1.0//EN
CALSCALE:GREGORIAN
METHOD:PUBLISH
X-WR-CALNAME:The Thirsty Ministries
X-ORIGINAL-URL:https://thethirsty.org
X-WR-CALDESC:Events for The Thirsty Ministries
REFRESH-INTERVAL;VALUE=DURATION:PT1H
X-Robots-Tag:noindex
X-PUBLISHED-TTL:PT1H
BEGIN:VTIMEZONE
TZID:America/New_York
BEGIN:DAYLIGHT
TZOFFSETFROM:-0500
TZOFFSETTO:-0400
TZNAME:EDT
DTSTART:20240310T070000
END:DAYLIGHT
BEGIN:STANDARD
TZOFFSETFROM:-0400
TZOFFSETTO:-0500
TZNAME:EST
DTSTART:20241103T060000
END:STANDARD
BEGIN:DAYLIGHT
TZOFFSETFROM:-0500
TZOFFSETTO:-0400
TZNAME:EDT
DTSTART:20250309T070000
END:DAYLIGHT
BEGIN:STANDARD
TZOFFSETFROM:-0400
TZOFFSETTO:-0500
TZNAME:EST
DTSTART:20251102T060000
END:STANDARD
BEGIN:DAYLIGHT
TZOFFSETFROM:-0500
TZOFFSETTO:-0400
TZNAME:EDT
DTSTART:20260308T070000
END:DAYLIGHT
BEGIN:STANDARD
TZOFFSETFROM:-0400
TZOFFSETTO:-0500
TZNAME:EST
DTSTART:20261101T060000
END:STANDARD
BEGIN:DAYLIGHT
TZOFFSETFROM:-0500
TZOFFSETTO:-0400
TZNAME:EDT
DTSTART:20270314T070000
END:DAYLIGHT
BEGIN:STANDARD
TZOFFSETFROM:-0400
TZOFFSETTO:-0500
TZNAME:EST
DTSTART:20271107T060000
END:STANDARD
END:VTIMEZONE
BEGIN:VEVENT
DTSTART;TZID=America/New_York:20260209T000000
DTEND;TZID=America/New_York:20260209T235900
DTSTAMP:20260425T110739
CREATED:20260111T010808Z
LAST-MODIFIED:20260111T011103Z
UID:10004978-1770595200-1770681540@thethirsty.org
SUMMARY:Egypt Ministry Trip 2026
DESCRIPTION:
URL:https://thethirsty.org/event/egypt-ministry-trip-2026/2026-02-09/
LOCATION:ON
CATEGORIES:Ministry Trips
ATTACH;FMTTYPE=image/png:https://thethirsty.org/wp-content/uploads/egypt.png
ORGANIZER;CN="The Thirsty Ministries":MAILTO:info@thethirsty.org
END:VEVENT
BEGIN:VEVENT
DTSTART;TZID=America/New_York:20260208T000000
DTEND;TZID=America/New_York:20260208T235900
DTSTAMP:20260425T110739
CREATED:20260111T010808Z
LAST-MODIFIED:20260111T011103Z
UID:10004977-1770508800-1770595140@thethirsty.org
SUMMARY:Egypt Ministry Trip 2026
DESCRIPTION:
URL:https://thethirsty.org/event/egypt-ministry-trip-2026/2026-02-08/
LOCATION:ON
CATEGORIES:Ministry Trips
ATTACH;FMTTYPE=image/png:https://thethirsty.org/wp-content/uploads/egypt.png
ORGANIZER;CN="The Thirsty Ministries":MAILTO:info@thethirsty.org
END:VEVENT
BEGIN:VEVENT
DTSTART;TZID=America/New_York:20260206T193000
DTEND;TZID=America/New_York:20260206T213000
DTSTAMP:20260425T110739
CREATED:20250531T191834Z
LAST-MODIFIED:20251219T230746Z
UID:10003285-1770406200-1770413400@thethirsty.org
SUMMARY:Friday Meetings
DESCRIPTION:
URL:https://thethirsty.org/event/friday-meetings-new-location/2026-02-06/
LOCATION:Vellore Village Community Centre\, 1 Villa Royale Ave\, Woodbridge\, ON\, L4H 2P3\, Canada
CATEGORIES:Friday Meetings
ATTACH;FMTTYPE=image/png:https://thethirsty.org/wp-content/uploads/2025/05/Friday_meeting_coloure_g.png
ORGANIZER;CN="The Thirsty Ministries":MAILTO:info@thethirsty.org
END:VEVENT
BEGIN:VEVENT
DTSTART;TZID=America/New_York:20260204T193000
DTEND;TZID=America/New_York:20260204T210000
DTSTAMP:20260425T110739
CREATED:20250612T003621Z
LAST-MODIFIED:20260317T221911Z
UID:10004800-1770233400-1770238800@thethirsty.org
SUMMARY:(In-Person) Weekly Intercession Meeting
DESCRIPTION:
URL:https://thethirsty.org/event/in-person-weekly-intercession-meeting/2026-02-04/
LOCATION:Vellore Village Community Centre\, 1 Villa Royale Ave\, Woodbridge\, ON\, L4H 2P3\, Canada
CATEGORIES:Intercession Meetings
ATTACH;FMTTYPE=image/png:https://thethirsty.org/wp-content/uploads/2025/06/Blue-and-White-Modern-Gradient-Weekly-Meeting-Agenda-Instagram-Post.png
ORGANIZER;CN="The Thirsty Ministries":MAILTO:info@thethirsty.org
END:VEVENT
BEGIN:VEVENT
DTSTART;TZID=America/New_York:20260128T193000
DTEND;TZID=America/New_York:20260128T210000
DTSTAMP:20260425T110739
CREATED:20250612T010615Z
LAST-MODIFIED:20260317T222033Z
UID:10004813-1769628600-1769634000@thethirsty.org
SUMMARY:(On Zoom) Weekly Intercession Meeting
DESCRIPTION:
URL:https://thethirsty.org/event/https-thethirsty-us4-list-manage-com-track-clicku782debe48a03c9cf27dd404a2id076ddd8750e2bba4518e4/2026-01-28/
LOCATION:ON
CATEGORIES:Intercession Meetings
ATTACH;FMTTYPE=image/png:https://thethirsty.org/wp-content/uploads/2025/06/Blue-and-White-Modern-Gradient-Weekly-Meeting-Agenda-Instagram-Post.JPG.png
ORGANIZER;CN="The Thirsty Ministries":MAILTO:info@thethirsty.org
END:VEVENT
BEGIN:VEVENT
DTSTART;TZID=America/New_York:20260123T193000
DTEND;TZID=America/New_York:20260123T213000
DTSTAMP:20260425T110739
CREATED:20250531T191834Z
LAST-MODIFIED:20251219T230746Z
UID:10003284-1769196600-1769203800@thethirsty.org
SUMMARY:Friday Meetings
DESCRIPTION:
URL:https://thethirsty.org/event/friday-meetings-new-location/2026-01-23/
LOCATION:Vellore Village Community Centre\, 1 Villa Royale Ave\, Woodbridge\, ON\, L4H 2P3\, Canada
CATEGORIES:Friday Meetings
ATTACH;FMTTYPE=image/png:https://thethirsty.org/wp-content/uploads/2025/05/Friday_meeting_coloure_g.png
ORGANIZER;CN="The Thirsty Ministries":MAILTO:info@thethirsty.org
END:VEVENT
BEGIN:VEVENT
DTSTART;TZID=America/New_York:20260121T193000
DTEND;TZID=America/New_York:20260121T210000
DTSTAMP:20260425T110739
CREATED:20250612T010615Z
LAST-MODIFIED:20260317T222033Z
UID:10004812-1769023800-1769029200@thethirsty.org
SUMMARY:(On Zoom) Weekly Intercession Meeting
DESCRIPTION:
URL:https://thethirsty.org/event/https-thethirsty-us4-list-manage-com-track-clicku782debe48a03c9cf27dd404a2id076ddd8750e2bba4518e4/2026-01-21/
LOCATION:ON
CATEGORIES:Intercession Meetings
ATTACH;FMTTYPE=image/png:https://thethirsty.org/wp-content/uploads/2025/06/Blue-and-White-Modern-Gradient-Weekly-Meeting-Agenda-Instagram-Post.JPG.png
ORGANIZER;CN="The Thirsty Ministries":MAILTO:info@thethirsty.org
END:VEVENT
BEGIN:VEVENT
DTSTART;TZID=America/New_York:20260114T193000
DTEND;TZID=America/New_York:20260114T210000
DTSTAMP:20260425T110739
CREATED:20250612T010615Z
LAST-MODIFIED:20260317T222033Z
UID:10004811-1768419000-1768424400@thethirsty.org
SUMMARY:(On Zoom) Weekly Intercession Meeting
DESCRIPTION:
URL:https://thethirsty.org/event/https-thethirsty-us4-list-manage-com-track-clicku782debe48a03c9cf27dd404a2id076ddd8750e2bba4518e4/2026-01-14/
LOCATION:ON
CATEGORIES:Intercession Meetings
ATTACH;FMTTYPE=image/png:https://thethirsty.org/wp-content/uploads/2025/06/Blue-and-White-Modern-Gradient-Weekly-Meeting-Agenda-Instagram-Post.JPG.png
ORGANIZER;CN="The Thirsty Ministries":MAILTO:info@thethirsty.org
END:VEVENT
BEGIN:VEVENT
DTSTART;TZID=America/New_York:20260109T193000
DTEND;TZID=America/New_York:20260109T213000
DTSTAMP:20260425T110739
CREATED:20250531T191834Z
LAST-MODIFIED:20251219T230746Z
UID:10003283-1767987000-1767994200@thethirsty.org
SUMMARY:Friday Meetings
DESCRIPTION:
URL:https://thethirsty.org/event/friday-meetings-new-location/2026-01-09/
LOCATION:Vellore Village Community Centre\, 1 Villa Royale Ave\, Woodbridge\, ON\, L4H 2P3\, Canada
CATEGORIES:Friday Meetings
ATTACH;FMTTYPE=image/png:https://thethirsty.org/wp-content/uploads/2025/05/Friday_meeting_coloure_g.png
ORGANIZER;CN="The Thirsty Ministries":MAILTO:info@thethirsty.org
END:VEVENT
BEGIN:VEVENT
DTSTART;TZID=America/New_York:20260107T193000
DTEND;TZID=America/New_York:20260107T210000
DTSTAMP:20260425T110739
CREATED:20250612T003621Z
LAST-MODIFIED:20260317T221911Z
UID:10004799-1767814200-1767819600@thethirsty.org
SUMMARY:(In-Person) Weekly Intercession Meeting
DESCRIPTION:
URL:https://thethirsty.org/event/in-person-weekly-intercession-meeting/2026-01-07/
LOCATION:Vellore Village Community Centre\, 1 Villa Royale Ave\, Woodbridge\, ON\, L4H 2P3\, Canada
CATEGORIES:Intercession Meetings
ATTACH;FMTTYPE=image/png:https://thethirsty.org/wp-content/uploads/2025/06/Blue-and-White-Modern-Gradient-Weekly-Meeting-Agenda-Instagram-Post.png
ORGANIZER;CN="The Thirsty Ministries":MAILTO:info@thethirsty.org
END:VEVENT
BEGIN:VEVENT
DTSTART;TZID=America/New_York:20251219T193000
DTEND;TZID=America/New_York:20251219T213000
DTSTAMP:20260425T110739
CREATED:20250531T191834Z
LAST-MODIFIED:20251219T230746Z
UID:10004966-1766172600-1766179800@thethirsty.org
SUMMARY:Friday Meetings
DESCRIPTION:
URL:https://thethirsty.org/event/friday-meetings-new-location/2025-12-19/
LOCATION:Vellore Village Community Centre\, 1 Villa Royale Ave\, Woodbridge\, ON\, L4H 2P3\, Canada
CATEGORIES:Friday Meetings
ATTACH;FMTTYPE=image/png:https://thethirsty.org/wp-content/uploads/2025/05/Friday_meeting_coloure_g.png
ORGANIZER;CN="The Thirsty Ministries":MAILTO:info@thethirsty.org
END:VEVENT
BEGIN:VEVENT
DTSTART;TZID=America/New_York:20251217T193000
DTEND;TZID=America/New_York:20251217T210000
DTSTAMP:20260425T110739
CREATED:20250612T003621Z
LAST-MODIFIED:20260317T221911Z
UID:10004798-1765999800-1766005200@thethirsty.org
SUMMARY:(In-Person) Weekly Intercession Meeting
DESCRIPTION:
URL:https://thethirsty.org/event/in-person-weekly-intercession-meeting/2025-12-17/
LOCATION:Vellore Village Community Centre\, 1 Villa Royale Ave\, Woodbridge\, ON\, L4H 2P3\, Canada
CATEGORIES:Intercession Meetings
ATTACH;FMTTYPE=image/png:https://thethirsty.org/wp-content/uploads/2025/06/Blue-and-White-Modern-Gradient-Weekly-Meeting-Agenda-Instagram-Post.png
ORGANIZER;CN="The Thirsty Ministries":MAILTO:info@thethirsty.org
END:VEVENT
BEGIN:VEVENT
DTSTART;TZID=America/New_York:20251210T193000
DTEND;TZID=America/New_York:20251210T210000
DTSTAMP:20260425T110739
CREATED:20250612T010615Z
LAST-MODIFIED:20260317T222033Z
UID:10004810-1765395000-1765400400@thethirsty.org
SUMMARY:(On Zoom) Weekly Intercession Meeting
DESCRIPTION:
URL:https://thethirsty.org/event/https-thethirsty-us4-list-manage-com-track-clicku782debe48a03c9cf27dd404a2id076ddd8750e2bba4518e4/2025-12-10/
LOCATION:ON
CATEGORIES:Intercession Meetings
ATTACH;FMTTYPE=image/png:https://thethirsty.org/wp-content/uploads/2025/06/Blue-and-White-Modern-Gradient-Weekly-Meeting-Agenda-Instagram-Post.JPG.png
ORGANIZER;CN="The Thirsty Ministries":MAILTO:info@thethirsty.org
END:VEVENT
BEGIN:VEVENT
DTSTART;TZID=America/New_York:20251203T193000
DTEND;TZID=America/New_York:20251203T210000
DTSTAMP:20260425T110739
CREATED:20250612T003621Z
LAST-MODIFIED:20260317T221911Z
UID:10004797-1764790200-1764795600@thethirsty.org
SUMMARY:(In-Person) Weekly Intercession Meeting
DESCRIPTION:
URL:https://thethirsty.org/event/in-person-weekly-intercession-meeting/2025-12-03/
LOCATION:Vellore Village Community Centre\, 1 Villa Royale Ave\, Woodbridge\, ON\, L4H 2P3\, Canada
CATEGORIES:Intercession Meetings
ATTACH;FMTTYPE=image/png:https://thethirsty.org/wp-content/uploads/2025/06/Blue-and-White-Modern-Gradient-Weekly-Meeting-Agenda-Instagram-Post.png
ORGANIZER;CN="The Thirsty Ministries":MAILTO:info@thethirsty.org
END:VEVENT
BEGIN:VEVENT
DTSTART;TZID=America/New_York:20251128T193000
DTEND;TZID=America/New_York:20251128T213000
DTSTAMP:20260425T110739
CREATED:20250531T191834Z
LAST-MODIFIED:20251219T230746Z
UID:10004384-1764358200-1764365400@thethirsty.org
SUMMARY:Friday Meetings
DESCRIPTION:
URL:https://thethirsty.org/event/friday-meetings-new-location/2025-11-28/
LOCATION:Vellore Village Community Centre\, 1 Villa Royale Ave\, Woodbridge\, ON\, L4H 2P3\, Canada
CATEGORIES:Friday Meetings
ATTACH;FMTTYPE=image/png:https://thethirsty.org/wp-content/uploads/2025/05/Friday_meeting_coloure_g.png
ORGANIZER;CN="The Thirsty Ministries":MAILTO:info@thethirsty.org
END:VEVENT
BEGIN:VEVENT
DTSTART;TZID=America/New_York:20251126T193000
DTEND;TZID=America/New_York:20251126T210000
DTSTAMP:20260425T110739
CREATED:20250612T010615Z
LAST-MODIFIED:20260317T222033Z
UID:10004216-1764185400-1764190800@thethirsty.org
SUMMARY:(On Zoom) Weekly Intercession Meeting
DESCRIPTION:
URL:https://thethirsty.org/event/https-thethirsty-us4-list-manage-com-track-clicku782debe48a03c9cf27dd404a2id076ddd8750e2bba4518e4/2025-11-26/
LOCATION:ON
CATEGORIES:Intercession Meetings
ATTACH;FMTTYPE=image/png:https://thethirsty.org/wp-content/uploads/2025/06/Blue-and-White-Modern-Gradient-Weekly-Meeting-Agenda-Instagram-Post.JPG.png
ORGANIZER;CN="The Thirsty Ministries":MAILTO:info@thethirsty.org
END:VEVENT
BEGIN:VEVENT
DTSTART;TZID=America/New_York:20251119T193000
DTEND;TZID=America/New_York:20251119T210000
DTSTAMP:20260425T110739
CREATED:20250612T003621Z
LAST-MODIFIED:20260317T221911Z
UID:10004202-1763580600-1763586000@thethirsty.org
SUMMARY:(In-Person) Weekly Intercession Meeting
DESCRIPTION:
URL:https://thethirsty.org/event/in-person-weekly-intercession-meeting/2025-11-19/
LOCATION:Vellore Village Community Centre\, 1 Villa Royale Ave\, Woodbridge\, ON\, L4H 2P3\, Canada
CATEGORIES:Intercession Meetings
ATTACH;FMTTYPE=image/png:https://thethirsty.org/wp-content/uploads/2025/06/Blue-and-White-Modern-Gradient-Weekly-Meeting-Agenda-Instagram-Post.png
ORGANIZER;CN="The Thirsty Ministries":MAILTO:info@thethirsty.org
END:VEVENT
BEGIN:VEVENT
DTSTART;TZID=America/New_York:20251114T193000
DTEND;TZID=America/New_York:20251114T213000
DTSTAMP:20260425T110739
CREATED:20250531T191834Z
LAST-MODIFIED:20251219T230746Z
UID:10004382-1763148600-1763155800@thethirsty.org
SUMMARY:Friday Meetings
DESCRIPTION:
URL:https://thethirsty.org/event/friday-meetings-new-location/2025-11-14/
LOCATION:Vellore Village Community Centre\, 1 Villa Royale Ave\, Woodbridge\, ON\, L4H 2P3\, Canada
CATEGORIES:Friday Meetings
ATTACH;FMTTYPE=image/png:https://thethirsty.org/wp-content/uploads/2025/05/Friday_meeting_coloure_g.png
ORGANIZER;CN="The Thirsty Ministries":MAILTO:info@thethirsty.org
END:VEVENT
BEGIN:VEVENT
DTSTART;TZID=America/New_York:20251114T000000
DTEND;TZID=America/New_York:20251114T235900
DTSTAMP:20260425T110739
CREATED:20250214T165312Z
LAST-MODIFIED:20250214T165347Z
UID:10003251-1763078400-1763164740@thethirsty.org
SUMMARY:Iraq Ministry Trip 2025
DESCRIPTION:
URL:https://thethirsty.org/event/iraq-ministry-trip-2025/2025-11-14/
LOCATION:ON
CATEGORIES:Ministry Trips
ATTACH;FMTTYPE=image/png:https://thethirsty.org/wp-content/uploads/2025/02/TAQ-QASRA.png
ORGANIZER;CN="The Thirsty Ministries":MAILTO:info@thethirsty.org
END:VEVENT
BEGIN:VEVENT
DTSTART;TZID=America/New_York:20251113T000000
DTEND;TZID=America/New_York:20251113T235900
DTSTAMP:20260425T110739
CREATED:20250214T165312Z
LAST-MODIFIED:20250214T165347Z
UID:10003250-1762992000-1763078340@thethirsty.org
SUMMARY:Iraq Ministry Trip 2025
DESCRIPTION:
URL:https://thethirsty.org/event/iraq-ministry-trip-2025/2025-11-13/
LOCATION:ON
CATEGORIES:Ministry Trips
ATTACH;FMTTYPE=image/png:https://thethirsty.org/wp-content/uploads/2025/02/TAQ-QASRA.png
ORGANIZER;CN="The Thirsty Ministries":MAILTO:info@thethirsty.org
END:VEVENT
BEGIN:VEVENT
DTSTART;TZID=America/New_York:20251112T193000
DTEND;TZID=America/New_York:20251112T210000
DTSTAMP:20260425T110739
CREATED:20250612T010615Z
LAST-MODIFIED:20260317T222033Z
UID:10004215-1762975800-1762981200@thethirsty.org
SUMMARY:(On Zoom) Weekly Intercession Meeting
DESCRIPTION:
URL:https://thethirsty.org/event/https-thethirsty-us4-list-manage-com-track-clicku782debe48a03c9cf27dd404a2id076ddd8750e2bba4518e4/2025-11-12/
LOCATION:ON
CATEGORIES:Intercession Meetings
ATTACH;FMTTYPE=image/png:https://thethirsty.org/wp-content/uploads/2025/06/Blue-and-White-Modern-Gradient-Weekly-Meeting-Agenda-Instagram-Post.JPG.png
ORGANIZER;CN="The Thirsty Ministries":MAILTO:info@thethirsty.org
END:VEVENT
BEGIN:VEVENT
DTSTART;TZID=America/New_York:20251112T000000
DTEND;TZID=America/New_York:20251112T235900
DTSTAMP:20260425T110739
CREATED:20250214T165312Z
LAST-MODIFIED:20250214T165347Z
UID:10003249-1762905600-1762991940@thethirsty.org
SUMMARY:Iraq Ministry Trip 2025
DESCRIPTION:
URL:https://thethirsty.org/event/iraq-ministry-trip-2025/2025-11-12/
LOCATION:ON
CATEGORIES:Ministry Trips
ATTACH;FMTTYPE=image/png:https://thethirsty.org/wp-content/uploads/2025/02/TAQ-QASRA.png
ORGANIZER;CN="The Thirsty Ministries":MAILTO:info@thethirsty.org
END:VEVENT
BEGIN:VEVENT
DTSTART;TZID=America/New_York:20251111T000000
DTEND;TZID=America/New_York:20251111T235900
DTSTAMP:20260425T110739
CREATED:20250214T165312Z
LAST-MODIFIED:20250214T165347Z
UID:10003248-1762819200-1762905540@thethirsty.org
SUMMARY:Iraq Ministry Trip 2025
DESCRIPTION:
URL:https://thethirsty.org/event/iraq-ministry-trip-2025/2025-11-11/
LOCATION:ON
CATEGORIES:Ministry Trips
ATTACH;FMTTYPE=image/png:https://thethirsty.org/wp-content/uploads/2025/02/TAQ-QASRA.png
ORGANIZER;CN="The Thirsty Ministries":MAILTO:info@thethirsty.org
END:VEVENT
BEGIN:VEVENT
DTSTART;TZID=America/New_York:20251110T000000
DTEND;TZID=America/New_York:20251110T235900
DTSTAMP:20260425T110739
CREATED:20250214T165312Z
LAST-MODIFIED:20250214T165347Z
UID:10003247-1762732800-1762819140@thethirsty.org
SUMMARY:Iraq Ministry Trip 2025
DESCRIPTION:
URL:https://thethirsty.org/event/iraq-ministry-trip-2025/2025-11-10/
LOCATION:ON
CATEGORIES:Ministry Trips
ATTACH;FMTTYPE=image/png:https://thethirsty.org/wp-content/uploads/2025/02/TAQ-QASRA.png
ORGANIZER;CN="The Thirsty Ministries":MAILTO:info@thethirsty.org
END:VEVENT
BEGIN:VEVENT
DTSTART;TZID=America/New_York:20251109T000000
DTEND;TZID=America/New_York:20251109T235900
DTSTAMP:20260425T110739
CREATED:20250214T165312Z
LAST-MODIFIED:20250214T165347Z
UID:10003246-1762646400-1762732740@thethirsty.org
SUMMARY:Iraq Ministry Trip 2025
DESCRIPTION:
URL:https://thethirsty.org/event/iraq-ministry-trip-2025/2025-11-09/
LOCATION:ON
CATEGORIES:Ministry Trips
ATTACH;FMTTYPE=image/png:https://thethirsty.org/wp-content/uploads/2025/02/TAQ-QASRA.png
ORGANIZER;CN="The Thirsty Ministries":MAILTO:info@thethirsty.org
END:VEVENT
BEGIN:VEVENT
DTSTART;TZID=America/New_York:20251108T000000
DTEND;TZID=America/New_York:20251108T235900
DTSTAMP:20260425T110739
CREATED:20250214T165312Z
LAST-MODIFIED:20250214T165347Z
UID:10003245-1762560000-1762646340@thethirsty.org
SUMMARY:Iraq Ministry Trip 2025
DESCRIPTION:
URL:https://thethirsty.org/event/iraq-ministry-trip-2025/2025-11-08/
LOCATION:ON
CATEGORIES:Ministry Trips
ATTACH;FMTTYPE=image/png:https://thethirsty.org/wp-content/uploads/2025/02/TAQ-QASRA.png
ORGANIZER;CN="The Thirsty Ministries":MAILTO:info@thethirsty.org
END:VEVENT
BEGIN:VEVENT
DTSTART;TZID=America/New_York:20251107T000000
DTEND;TZID=America/New_York:20251107T235900
DTSTAMP:20260425T110739
CREATED:20250214T165312Z
LAST-MODIFIED:20250214T165347Z
UID:10003244-1762473600-1762559940@thethirsty.org
SUMMARY:Iraq Ministry Trip 2025
DESCRIPTION:
URL:https://thethirsty.org/event/iraq-ministry-trip-2025/2025-11-07/
LOCATION:ON
CATEGORIES:Ministry Trips
ATTACH;FMTTYPE=image/png:https://thethirsty.org/wp-content/uploads/2025/02/TAQ-QASRA.png
ORGANIZER;CN="The Thirsty Ministries":MAILTO:info@thethirsty.org
END:VEVENT
BEGIN:VEVENT
DTSTART;TZID=America/New_York:20251105T193000
DTEND;TZID=America/New_York:20251105T210000
DTSTAMP:20260425T110739
CREATED:20250612T003621Z
LAST-MODIFIED:20260317T221911Z
UID:10004508-1762371000-1762376400@thethirsty.org
SUMMARY:(In-Person) Weekly Intercession Meeting
DESCRIPTION:
URL:https://thethirsty.org/event/in-person-weekly-intercession-meeting/2025-11-05/
LOCATION:Vellore Village Community Centre\, 1 Villa Royale Ave\, Woodbridge\, ON\, L4H 2P3\, Canada
CATEGORIES:Intercession Meetings
ATTACH;FMTTYPE=image/png:https://thethirsty.org/wp-content/uploads/2025/06/Blue-and-White-Modern-Gradient-Weekly-Meeting-Agenda-Instagram-Post.png
ORGANIZER;CN="The Thirsty Ministries":MAILTO:info@thethirsty.org
END:VEVENT
BEGIN:VEVENT
DTSTART;TZID=America/New_York:20251022T193000
DTEND;TZID=America/New_York:20251022T210000
DTSTAMP:20260425T110739
CREATED:20250612T003621Z
LAST-MODIFIED:20260317T221911Z
UID:10004366-1761161400-1761166800@thethirsty.org
SUMMARY:(In-Person) Weekly Intercession Meeting
DESCRIPTION:
URL:https://thethirsty.org/event/in-person-weekly-intercession-meeting/2025-10-22/
LOCATION:Vellore Village Community Centre\, 1 Villa Royale Ave\, Woodbridge\, ON\, L4H 2P3\, Canada
CATEGORIES:Intercession Meetings
ATTACH;FMTTYPE=image/png:https://thethirsty.org/wp-content/uploads/2025/06/Blue-and-White-Modern-Gradient-Weekly-Meeting-Agenda-Instagram-Post.png
ORGANIZER;CN="The Thirsty Ministries":MAILTO:info@thethirsty.org
END:VEVENT
BEGIN:VEVENT
DTSTART;TZID=America/New_York:20251017T193000
DTEND;TZID=America/New_York:20251017T213000
DTSTAMP:20260425T110739
CREATED:20250531T191834Z
LAST-MODIFIED:20251219T230746Z
UID:10003277-1760729400-1760736600@thethirsty.org
SUMMARY:Friday Meetings
DESCRIPTION:
URL:https://thethirsty.org/event/friday-meetings-new-location/2025-10-17/
LOCATION:Vellore Village Community Centre\, 1 Villa Royale Ave\, Woodbridge\, ON\, L4H 2P3\, Canada
CATEGORIES:Friday Meetings
ATTACH;FMTTYPE=image/png:https://thethirsty.org/wp-content/uploads/2025/05/Friday_meeting_coloure_g.png
ORGANIZER;CN="The Thirsty Ministries":MAILTO:info@thethirsty.org
END:VEVENT
END:VCALENDAR